BEGIN:VCALENDAR
VERSION:2.0
PRODID:-//HOT BOOTS - ECPv6.15.20//NONSGML v1.0//EN
CALSCALE:GREGORIAN
METHOD:PUBLISH
X-WR-CALNAME:HOT BOOTS
X-ORIGINAL-URL:https://hotboots.it
X-WR-CALDESC:Eventi per HOT BOOTS
REFRESH-INTERVAL;VALUE=DURATION:PT1H
X-Robots-Tag:noindex
X-PUBLISHED-TTL:PT1H
BEGIN:VTIMEZONE
TZID:Europe/Rome
BEGIN:DAYLIGHT
TZOFFSETFROM:+0100
TZOFFSETTO:+0200
TZNAME:CEST
DTSTART:20240331T010000
END:DAYLIGHT
BEGIN:STANDARD
TZOFFSETFROM:+0200
TZOFFSETTO:+0100
TZNAME:CET
DTSTART:20241027T010000
END:STANDARD
BEGIN:DAYLIGHT
TZOFFSETFROM:+0100
TZOFFSETTO:+0200
TZNAME:CEST
DTSTART:20250330T010000
END:DAYLIGHT
BEGIN:STANDARD
TZOFFSETFROM:+0200
TZOFFSETTO:+0100
TZNAME:CET
DTSTART:20251026T010000
END:STANDARD
BEGIN:DAYLIGHT
TZOFFSETFROM:+0100
TZOFFSETTO:+0200
TZNAME:CEST
DTSTART:20260329T010000
END:DAYLIGHT
BEGIN:STANDARD
TZOFFSETFROM:+0200
TZOFFSETTO:+0100
TZNAME:CET
DTSTART:20261025T010000
END:STANDARD
END:VTIMEZONE
BEGIN:VEVENT
DTSTART;TZID=Europe/Rome:20250814T210000
DTEND;TZID=Europe/Rome:20250814T235900
DTSTAMP:20260419T161610
CREATED:20180811T150323Z
LAST-MODIFIED:20250812T144107Z
UID:2602-1755205200-1755215940@hotboots.it
SUMMARY:Country Tour 2025 - Primolano (VI)
DESCRIPTION:Ogni 14 Agosto\, ci ritroviamo in questo Fresco paesino dell’Alto Vicentino x una festa senza frontiere.\nIn consolle tornano i “Tre Caballeros” Eros & Luka & Nike In pista tutti Voi anche perché l’ingresso è rigorosamente Libero
URL:https://hotboots.it/evento/17-country-tour-primolano-vi/
LOCATION:Primolano\, Via Libertà\, Valbrenta\, Vicenza
CATEGORIES:SAGRA,VICENZA
ATTACH;FMTTYPE=image/jpeg:https://hotboots.it/wp-content/uploads/2018/08/14-ago-nike-.jpg
END:VEVENT
END:VCALENDAR