BEGIN:VCALENDAR
VERSION:2.0
PRODID:-//HOT BOOTS - ECPv6.15.20//NONSGML v1.0//EN
CALSCALE:GREGORIAN
METHOD:PUBLISH
X-ORIGINAL-URL:https://hotboots.it
X-WR-CALDESC:Eventi per HOT BOOTS
REFRESH-INTERVAL;VALUE=DURATION:PT1H
X-Robots-Tag:noindex
X-PUBLISHED-TTL:PT1H
BEGIN:VTIMEZONE
TZID:Europe/Rome
BEGIN:DAYLIGHT
TZOFFSETFROM:+0100
TZOFFSETTO:+0200
TZNAME:CEST
DTSTART:20240331T010000
END:DAYLIGHT
BEGIN:STANDARD
TZOFFSETFROM:+0200
TZOFFSETTO:+0100
TZNAME:CET
DTSTART:20241027T010000
END:STANDARD
BEGIN:DAYLIGHT
TZOFFSETFROM:+0100
TZOFFSETTO:+0200
TZNAME:CEST
DTSTART:20250330T010000
END:DAYLIGHT
BEGIN:STANDARD
TZOFFSETFROM:+0200
TZOFFSETTO:+0100
TZNAME:CET
DTSTART:20251026T010000
END:STANDARD
BEGIN:DAYLIGHT
TZOFFSETFROM:+0100
TZOFFSETTO:+0200
TZNAME:CEST
DTSTART:20260329T010000
END:DAYLIGHT
BEGIN:STANDARD
TZOFFSETFROM:+0200
TZOFFSETTO:+0100
TZNAME:CET
DTSTART:20261025T010000
END:STANDARD
END:VTIMEZONE
BEGIN:VEVENT
DTSTART;TZID=Europe/Rome:20250927T173000
DTEND;TZID=Europe/Rome:20250927T235900
DTSTAMP:20260419T145730
CREATED:20180928T071609Z
LAST-MODIFIED:20250926T154317Z
UID:3343-1758994200-1759017540@hotboots.it
SUMMARY:GRAN GALÀ DELLE SCUOLE -  Trissino (Vi)
DESCRIPTION:24 anni e non sentirli! Che dire… Questo evento e’ di quelli unici che poi ricorderete a lungo lo staff del Country Tour al completo i maestri che vorranno festeggiare con noi tutti insieme per ricordare al meglio la passione che ci unisce contiamo sulla vostra presenza per ribadire e rinnovare la bontà delle nostre iniziative palazzetto fianco chiesa al coperto  pista in marmo di 1000 mq!!!!!\nI djs che ci faranno ballare: Luka Nike Eros Alex … Special guest Sorprise!!!!!! \nPartenza al pomeriggio ore 17.30 per iniziare a scaldare gli stivali con Catalan Time a cura di dj eros e Dj Luka old catalan \n 
URL:https://hotboots.it/evento/gran-gala-country-music-2018-trissino-vi/
LOCATION:Trissino Vi\, Vicenza\, Italia
CATEGORIES:FESTE,VICENZA
ATTACH;FMTTYPE=image/jpeg:https://hotboots.it/wp-content/uploads/2018/09/27-sett-nike-1.jpg
END:VEVENT
END:VCALENDAR