BEGIN:VCALENDAR
VERSION:2.0
PRODID:-//HOT BOOTS - ECPv6.15.20//NONSGML v1.0//EN
CALSCALE:GREGORIAN
METHOD:PUBLISH
X-WR-CALNAME:HOT BOOTS
X-ORIGINAL-URL:https://hotboots.it
X-WR-CALDESC:Eventi per HOT BOOTS
REFRESH-INTERVAL;VALUE=DURATION:PT1H
X-Robots-Tag:noindex
X-PUBLISHED-TTL:PT1H
BEGIN:VTIMEZONE
TZID:Europe/Rome
BEGIN:DAYLIGHT
TZOFFSETFROM:+0100
TZOFFSETTO:+0200
TZNAME:CEST
DTSTART:20240331T010000
END:DAYLIGHT
BEGIN:STANDARD
TZOFFSETFROM:+0200
TZOFFSETTO:+0100
TZNAME:CET
DTSTART:20241027T010000
END:STANDARD
BEGIN:DAYLIGHT
TZOFFSETFROM:+0100
TZOFFSETTO:+0200
TZNAME:CEST
DTSTART:20250330T010000
END:DAYLIGHT
BEGIN:STANDARD
TZOFFSETFROM:+0200
TZOFFSETTO:+0100
TZNAME:CET
DTSTART:20251026T010000
END:STANDARD
BEGIN:DAYLIGHT
TZOFFSETFROM:+0100
TZOFFSETTO:+0200
TZNAME:CEST
DTSTART:20260329T010000
END:DAYLIGHT
BEGIN:STANDARD
TZOFFSETFROM:+0200
TZOFFSETTO:+0100
TZNAME:CET
DTSTART:20261025T010000
END:STANDARD
END:VTIMEZONE
BEGIN:VEVENT
DTSTART;TZID=Europe/Rome:20250810T203000
DTEND;TZID=Europe/Rome:20250810T235900
DTSTAMP:20260419T193956
CREATED:20180805T152739Z
LAST-MODIFIED:20250808T133914Z
UID:2520-1754857800-1754870340@hotboots.it
SUMMARY:COUNTRY TOUR 2025 - CASTELVECCHIO DI VALDAGNO (VI)
DESCRIPTION:Torna una delle serate decane del Country Tour\, Castelvecchio! Enorme pista in legno al coperto e\nla sapiente Country music di Luka & Nike saranno i giusti ingredienti della festa. \nIl tutto in una magnifica cornice western.\nINGRESSO LIBERO
URL:https://hotboots.it/evento/17-country-tour-2018-castelvecchio-di-valdagno-vi/
LOCATION:Castel Vecchio di Valdagno\, Contrada Chiesa di Castelvecchio\, Valdagno\, Vicenza\, 36078\, Italia
CATEGORIES:SAGRA,VICENZA
ATTACH;FMTTYPE=image/jpeg:https://hotboots.it/wp-content/uploads/2018/08/10-ago-nike-.jpg
END:VEVENT
BEGIN:VEVENT
DTSTART;TZID=Europe/Rome:20250814T210000
DTEND;TZID=Europe/Rome:20250814T235900
DTSTAMP:20260419T193956
CREATED:20180811T150323Z
LAST-MODIFIED:20250812T144107Z
UID:2602-1755205200-1755215940@hotboots.it
SUMMARY:Country Tour 2025 - Primolano (VI)
DESCRIPTION:Ogni 14 Agosto\, ci ritroviamo in questo Fresco paesino dell’Alto Vicentino x una festa senza frontiere.\nIn consolle tornano i “Tre Caballeros” Eros & Luka & Nike In pista tutti Voi anche perché l’ingresso è rigorosamente Libero
URL:https://hotboots.it/evento/17-country-tour-primolano-vi/
LOCATION:Primolano\, Via Libertà\, Valbrenta\, Vicenza
CATEGORIES:SAGRA,VICENZA
ATTACH;FMTTYPE=image/jpeg:https://hotboots.it/wp-content/uploads/2018/08/14-ago-nike-.jpg
END:VEVENT
BEGIN:VEVENT
DTSTART;TZID=Europe/Rome:20250822T210000
DTEND;TZID=Europe/Rome:20250822T235900
DTSTAMP:20260419T193956
CREATED:20180811T153425Z
LAST-MODIFIED:20250812T152612Z
UID:2604-1755896400-1755907140@hotboots.it
SUMMARY:COUNTRY TOUR 2025 - Debba Vi
DESCRIPTION:Continua la cavalcata del Country Tour ritornando in Riviera Berica nella Bellissima località di Debba.\nStratosferica pista in acciaio e in consolle la musica Country per tutti garantita dai Tre Pistoleros : Alex & Luka & Nike DJs \nINGRESSO LIBERO e VIETATO MANCARE!
URL:https://hotboots.it/evento/17-country-tour-2018-vicenza-quartiere-debba/
LOCATION:Sagra Paesana di Debba\, Viale Riviera Berica 790\, Vicenza\, Vicenza\, 36100\, Italia
CATEGORIES:SAGRA,VICENZA
ATTACH;FMTTYPE=image/jpeg:https://hotboots.it/wp-content/uploads/2018/08/16-ago-nike.jpg
END:VEVENT
BEGIN:VEVENT
DTSTART;TZID=Europe/Rome:20250824T210000
DTEND;TZID=Europe/Rome:20250824T235900
DTSTAMP:20260419T193956
CREATED:20180811T155004Z
LAST-MODIFIED:20250812T152936Z
UID:2614-1756069200-1756079940@hotboots.it
SUMMARY:COUNTRY TOUR 2025 - CARTURO DI PIAZZOLA S/B (PD)
DESCRIPTION:Ancora una volta Carturo ospiterà il Country Tour! Avremo a disposizione una sterminata pista in acciaio TUTTA AL COPERTO! Alla regia i TRE CABALLEROS Eros & Luka & Nike in forma smagliante. \nINGRESSO RIGOROSAMENTE GRATUITO
URL:https://hotboots.it/evento/17-country-tour-2018-carturo-di-piazzola-s-b-pd/
LOCATION:CARTURO\, Via Carturo\, Piazzola sul Brenta\, Padova\, 35016\, Italia
CATEGORIES:PADOVA,SAGRA
ATTACH;FMTTYPE=image/jpeg:https://hotboots.it/wp-content/uploads/2018/08/24-ago-nike-1.jpg
END:VEVENT
BEGIN:VEVENT
DTSTART;TZID=Europe/Rome:20250825T210000
DTEND;TZID=Europe/Rome:20250825T235900
DTSTAMP:20260419T193956
CREATED:20180811T160337Z
LAST-MODIFIED:20250812T154849Z
UID:2608-1756155600-1756166340@hotboots.it
SUMMARY:COUNTRY TOUR 2025- RETTORGOLE DI CALDOGNO (VI)
DESCRIPTION:Torna la bellissima serata Country Tour a Rettorgole con la sua splendida pista in acciaio!  Luka & Nike in consolle  per ballare il country più autentico!
URL:https://hotboots.it/evento/17-country-tour-2018-rettorgole-di-caldogno-vi/
LOCATION:Rettorgole di Caldogno\, Via Chiesa Rettorgole\, Caldogno\, Vicenza\, 36030\, Italia
CATEGORIES:SAGRA,VICENZA
ATTACH;FMTTYPE=image/jpeg:https://hotboots.it/wp-content/uploads/2018/08/25-ago-nike.jpg
END:VEVENT
END:VCALENDAR