BEGIN:VCALENDAR
VERSION:2.0
PRODID:-//HOT BOOTS - ECPv6.15.20//NONSGML v1.0//EN
CALSCALE:GREGORIAN
METHOD:PUBLISH
X-WR-CALNAME:HOT BOOTS
X-ORIGINAL-URL:https://hotboots.it
X-WR-CALDESC:Eventi per HOT BOOTS
REFRESH-INTERVAL;VALUE=DURATION:PT1H
X-Robots-Tag:noindex
X-PUBLISHED-TTL:PT1H
BEGIN:VTIMEZONE
TZID:Europe/Rome
BEGIN:DAYLIGHT
TZOFFSETFROM:+0100
TZOFFSETTO:+0200
TZNAME:CEST
DTSTART:20240331T010000
END:DAYLIGHT
BEGIN:STANDARD
TZOFFSETFROM:+0200
TZOFFSETTO:+0100
TZNAME:CET
DTSTART:20241027T010000
END:STANDARD
BEGIN:DAYLIGHT
TZOFFSETFROM:+0100
TZOFFSETTO:+0200
TZNAME:CEST
DTSTART:20250330T010000
END:DAYLIGHT
BEGIN:STANDARD
TZOFFSETFROM:+0200
TZOFFSETTO:+0100
TZNAME:CET
DTSTART:20251026T010000
END:STANDARD
BEGIN:DAYLIGHT
TZOFFSETFROM:+0100
TZOFFSETTO:+0200
TZNAME:CEST
DTSTART:20260329T010000
END:DAYLIGHT
BEGIN:STANDARD
TZOFFSETFROM:+0200
TZOFFSETTO:+0100
TZNAME:CET
DTSTART:20261025T010000
END:STANDARD
END:VTIMEZONE
BEGIN:VEVENT
DTSTART;TZID=Europe/Rome:20250613T190000
DTEND;TZID=Europe/Rome:20250613T235900
DTSTAMP:20260419T145830
CREATED:20240613T165007Z
LAST-MODIFIED:20250612T191506Z
UID:15260-1749841200-1749859140@hotboots.it
SUMMARY:AMERICAN COUNTRY PARTY - CANDA RO
DESCRIPTION:Serata country capitanata dal Maestro Mirko della Paradise Dance e dal DJ e Maestro Paolo Gusella degli Urban Country e  Dj Stefano\n Divertimento garantito grazie ad una grande pista da ballo dove si potrà ballare le migliori coreografie country del momento per tutta la notte.\n La serata sarà in pieno centro a Canda (RO)
URL:https://hotboots.it/evento/american-country-party-canda-ro/
LOCATION:AMERICAN COUNTRY PARTY  – Canda Ro\, piazza dante alighieri\, Canda\, Rovigo
CATEGORIES:ROVIGO,SAGRA
ATTACH;FMTTYPE=image/jpeg:https://hotboots.it/wp-content/uploads/2024/06/13-giu-paolo.jpg
END:VEVENT
BEGIN:VEVENT
DTSTART;TZID=Europe/Rome:20250627T210000
DTEND;TZID=Europe/Rome:20250627T235900
DTSTAMP:20260419T145830
CREATED:20250624T194554Z
LAST-MODIFIED:20250624T194554Z
UID:16972-1751058000-1751068740@hotboots.it
SUMMARY:COUNTRY  DANCE NIGHT - ROSOLINA Ro
DESCRIPTION:Una location fantastica per una speciale Country Dance Night al Tortuga beach club proprio Fronte spiaggia a Rosolina Ro in consolle dj Kekko e in pista la maestra Daria degli Astar is Born
URL:https://hotboots.it/evento/country-dance-night-rosolina-ro/
LOCATION:Tortouga Beach Club – Rosolina Ro\, Piazzale Europa\, Rosolina\, Rovigo
CATEGORIES:ROVIGO,SERATA COUNTRY
ATTACH;FMTTYPE=image/jpeg:https://hotboots.it/wp-content/uploads/2025/06/27-giu-daria.jpg
END:VEVENT
END:VCALENDAR