BEGIN:VCALENDAR
VERSION:2.0
PRODID:-//HOT BOOTS - ECPv6.15.20//NONSGML v1.0//EN
CALSCALE:GREGORIAN
METHOD:PUBLISH
X-ORIGINAL-URL:https://hotboots.it
X-WR-CALDESC:Eventi per HOT BOOTS
REFRESH-INTERVAL;VALUE=DURATION:PT1H
X-Robots-Tag:noindex
X-PUBLISHED-TTL:PT1H
BEGIN:VTIMEZONE
TZID:Europe/Rome
BEGIN:DAYLIGHT
TZOFFSETFROM:+0100
TZOFFSETTO:+0200
TZNAME:CEST
DTSTART:20220327T010000
END:DAYLIGHT
BEGIN:STANDARD
TZOFFSETFROM:+0200
TZOFFSETTO:+0100
TZNAME:CET
DTSTART:20221030T010000
END:STANDARD
BEGIN:DAYLIGHT
TZOFFSETFROM:+0100
TZOFFSETTO:+0200
TZNAME:CEST
DTSTART:20230326T010000
END:DAYLIGHT
BEGIN:STANDARD
TZOFFSETFROM:+0200
TZOFFSETTO:+0100
TZNAME:CET
DTSTART:20231029T010000
END:STANDARD
BEGIN:DAYLIGHT
TZOFFSETFROM:+0100
TZOFFSETTO:+0200
TZNAME:CEST
DTSTART:20240331T010000
END:DAYLIGHT
BEGIN:STANDARD
TZOFFSETFROM:+0200
TZOFFSETTO:+0100
TZNAME:CET
DTSTART:20241027T010000
END:STANDARD
END:VTIMEZONE
BEGIN:VTIMEZONE
TZID:UTC
BEGIN:STANDARD
TZOFFSETFROM:+0000
TZOFFSETTO:+0000
TZNAME:UTC
DTSTART:20220101T000000
END:STANDARD
END:VTIMEZONE
BEGIN:VEVENT
DTSTART;TZID=Europe/Rome:20231009T210000
DTEND;TZID=Europe/Rome:20231009T235900
DTSTAMP:20260420T040520
CREATED:20231005T160603Z
LAST-MODIFIED:20231005T160603Z
UID:14259-1696885200-1696895940@hotboots.it
SUMMARY:Sagra della Madonna di Tessara - Curtarolo Pd
DESCRIPTION:Una super serata alla Sagra della Madonna di Tessara – Curtarolo Pd   a tutto country con  DJ ALEX\,DJ ALBY e la Maestra Francesca! \nPISTA IN LEGNO
URL:https://hotboots.it/evento/sagra-della-madonna-di-tessara-curtarolo-pd/
LOCATION:Sagra Madonna di Tessara – Curtarolo Pd\, Via Tessara\, Curtarolo\, Padova
CATEGORIES:PADOVA,SAGRA
ATTACH;FMTTYPE=image/jpeg:https://hotboots.it/wp-content/uploads/2023/10/09-ott-fran.jpg
END:VEVENT
BEGIN:VEVENT
DTSTART;TZID=Europe/Rome:20231008T103000
DTEND;TZID=Europe/Rome:20231008T235900
DTSTAMP:20260420T040520
CREATED:20231003T161636Z
LAST-MODIFIED:20231005T131159Z
UID:14201-1696761000-1696809540@hotboots.it
SUMMARY:COUNTRY ROAD BBQ CONTEST - CARTIGLIANO VI
DESCRIPTION:Dal 6 al 8 ottobre Villa Morosini ospiterà il BBQ  Contest con la partecipazione di team e giudici provenienti dall’Italia e dall’estero. \nContestualmente al Country Road ci sarà un ricco programma dedicato a musica e ballo con due piste da balle dove si alterneranno dj e super ospiti. Il Dj set sarà a cura dei Dj’s Nike\, West\, Bull\, Gianlutx\, Vito\, Walter mentre in pista troveremo i Maestri e Corografi: Jgor .G\, Francesca\, Mauro\, Jgor & Chris Pasin\, Erika.
URL:https://hotboots.it/evento/country-road-bbq-contest-cartigliano-vi-2/
LOCATION:Villa Morosini Cappello – Cartigliano Vi\, Viale Cappello\, 6\, Cartigliano\, Vicenza
CATEGORIES:FESTE,PADOVA
ATTACH;FMTTYPE=image/jpeg:https://hotboots.it/wp-content/uploads/2019/03/6-7-8-ott-pasin.jpg
END:VEVENT
BEGIN:VEVENT
DTSTART;TZID=Europe/Rome:20231007T103000
DTEND;TZID=Europe/Rome:20231007T235900
DTSTAMP:20260420T040520
CREATED:20231003T161507Z
LAST-MODIFIED:20231005T131350Z
UID:14199-1696674600-1696723140@hotboots.it
SUMMARY:COUNTRY ROAD BBQ CONTEST - CARTIGLIANO VI
DESCRIPTION:Dal 6 al 8 ottobre Villa Morosini ospiterà il BBQ  Contest con la partecipazione di team e giudici provenienti dall’Italia e dall’estero. \nContestualmente al Country Road ci sarà un ricco programma dedicato a musica e ballo con due piste da balle dove si alterneranno dj e super ospiti. Il Dj set sarà a cura dei Dj’s Nike\, West\, Bull\, Gianlutx\, Vito\, Walter mentre in pista troveremo i Maestri e Corografi: Jgor .G\, Francesca\, Mauro\, Jgor & Chris Pasin\, Erika.
URL:https://hotboots.it/evento/country-road-bbq-contest-cartigliano-vi/
LOCATION:Villa Morosini Cappello – Cartigliano Vi\, Viale Cappello\, 6\, Cartigliano\, Vicenza
CATEGORIES:FESTE,PADOVA
ATTACH;FMTTYPE=image/jpeg:https://hotboots.it/wp-content/uploads/2019/03/6-7-8-ott-pasin.jpg
END:VEVENT
BEGIN:VEVENT
DTSTART;TZID=Europe/Rome:20231006T210000
DTEND;TZID=Europe/Rome:20231006T235900
DTSTAMP:20260420T040520
CREATED:20230927T170529Z
LAST-MODIFIED:20231005T134516Z
UID:14169-1696626000-1696636740@hotboots.it
SUMMARY:Serata Country @ La Torre - Cornegliana Pd
DESCRIPTION:Nuova Location per le nostre Country Night da Venerdì 6 ottobre si comincerà a ballare in un nuovo locale il Ristorante Pizzeria La Torre a Cornegliana di Due Carrare Pd. A farvi ballare ci saranno la maestra Sara e il maestro e dj Paolo degli Urban Country.\n\nCosto d’ingresso per chi verrà solo a ballare di € 6\,00.
URL:https://hotboots.it/evento/serata-country-la-torre-cornegliana-pd/
LOCATION:Ristorante Pizzeria La Torre – Due Carrare Pd\, Via da Rio\, 55\, Cornegliana\, Padova
CATEGORIES:PADOVA,SERATA COUNTRY
ATTACH;FMTTYPE=image/jpeg:https://hotboots.it/wp-content/uploads/2023/09/6-ott-sara-2.jpg
END:VEVENT
BEGIN:VEVENT
DTSTART;TZID=Europe/Rome:20231006T183000
DTEND;TZID=Europe/Rome:20231006T235900
DTSTAMP:20260420T040520
CREATED:20190318T084517Z
LAST-MODIFIED:20231005T131510Z
UID:5378-1696617000-1696636740@hotboots.it
SUMMARY:COUNTRY ROAD BBQ CONTEST - CARTIGLIANO VI
DESCRIPTION:Dal 6 al 8 ottobre Villa Morosini ospiterà il BBQ  Contest con la partecipazione di team e giudici provenienti dall’Italia e dall’estero. \nContestualmente al Country Road ci sarà un ricco programma dedicato a musica e ballo con due piste da balle dove si alterneranno dj e super ospiti. Il Dj set sarà a cura dei Dj’s Nike\, West\, Bull\, Gianlutx\, Vito\, Walter mentre in pista troveremo i Maestri e Corografi: Jgor .G\, Francesca\, Mauro\, Jgor & Chris Pasin\, Erika.
URL:https://hotboots.it/evento/country-road-bbq-contest/
LOCATION:Villa Morosini Cappello – Cartigliano Vi\, Viale Cappello\, 6\, Cartigliano\, Vicenza
CATEGORIES:FESTE,PADOVA
ATTACH;FMTTYPE=image/jpeg:https://hotboots.it/wp-content/uploads/2019/03/6-7-8-ott-pasin.jpg
END:VEVENT
BEGIN:VEVENT
DTSTART;TZID=Europe/Rome:20230930T210000
DTEND;TZID=Europe/Rome:20230930T235900
DTSTAMP:20260420T040520
CREATED:20230927T163158Z
LAST-MODIFIED:20230927T163354Z
UID:14154-1696107600-1696118340@hotboots.it
SUMMARY:GRIGLIE SELVAGGE - CORREZZOLA PD
DESCRIPTION:Griglie Selvagge alle Squderie di Correzzola Pd  non solo Gara di Barbecue a squadre amatoriale ed esposizione di auto e pick up americane\, ma si balla Country con la Maestra e Dj Francesca Penzo degli A Star is Born. \n 
URL:https://hotboots.it/evento/griglie-selvagge-correzzola-pd/
LOCATION:Padova
CATEGORIES:FESTE,PADOVA
ATTACH;FMTTYPE=image/jpeg:https://hotboots.it/wp-content/uploads/2023/09/30-sett-francesca.jpg
END:VEVENT
BEGIN:VEVENT
DTSTART;TZID=Europe/Rome:20230926T210000
DTEND;TZID=Europe/Rome:20230926T235900
DTSTAMP:20260420T040520
CREATED:20230925T162731Z
LAST-MODIFIED:20230925T162731Z
UID:14115-1695762000-1695772740@hotboots.it
SUMMARY:Country @ Grill Park- Conche di Codevigo PD
DESCRIPTION:Serata Country al Grill Park Rock Festival a Conche di Codevigo Pd con gli Urban Country.
URL:https://hotboots.it/evento/country-grill-park-conche-di-codevigo-pd/
LOCATION:Grill Park – Conche di Codevigo Pd\, Via Frignolo 21\, Conche di Codevigo\, Padova
CATEGORIES:PADOVA,SERATA COUNTRY
ATTACH;FMTTYPE=image/jpeg:https://hotboots.it/wp-content/uploads/2023/09/26-sett-michele.jpg
END:VEVENT
BEGIN:VEVENT
DTSTART;TZID=Europe/Rome:20230924T213000
DTEND;TZID=Europe/Rome:20230924T235900
DTSTAMP:20260420T040520
CREATED:20190921T213903Z
LAST-MODIFIED:20230918T161402Z
UID:7607-1695591000-1695599940@hotboots.it
SUMMARY:Country NIGHT FEVER- Q.reTorre Pd
DESCRIPTION:Country Night alla  Sagra di San Michele Arcangelo a Q.re Torre Pd ( vicini a Ponte di Brenta) con i Dj Alex e Fox e le Maestre Noemi Rigon e Francesca Penzo. \nPista al coperto
URL:https://hotboots.it/evento/country-night-fever-q-retorre-pd/
LOCATION:Sagra di San Michele Q.re Torre Pd\, P.zzale S. Michele Arcangelo 2\, Padova\, Padova
CATEGORIES:PADOVA,SAGRA
ATTACH;FMTTYPE=image/jpeg:https://hotboots.it/wp-content/uploads/2019/09/24-sett-noemi.jpg
END:VEVENT
BEGIN:VEVENT
DTSTART;TZID=UTC:20230923T203000
DTEND;TZID=UTC:20230923T235900
DTSTAMP:20260420T040520
CREATED:20220323T165619Z
LAST-MODIFIED:20230831T164039Z
UID:10419-1695501000-1695513540@hotboots.it
SUMMARY:COUNTRY NIGHT CON FEDERICA DALL'AGLIO - BAGNOLI DI SOPRA Pd
DESCRIPTION:Grandissimi appuntamenti Al Bagnoli Outdoor Sport Center con la Maestra Francesca che per la serata ha un super ospite la giovanissima e talentuosa Coreografa Federica Dall’Aglio che terrà uno stage sulla sua ultima coreografia \n  \nINGRESSO SERATA 15 euro.\nPrenotazione obbligatoria al numero 3897877538.
URL:https://hotboots.it/evento/country-night-con-federica-dallaglio-bagnoli-di-sopra-pd/
LOCATION:Bagnoli  Outdoor Sport Center\, Via Galileo Galilei 7\, Bagnoli di Sopra\, Padova
CATEGORIES:PADOVA,SERATA COUNTRY,STAGE
ATTACH;FMTTYPE=image/jpeg:https://hotboots.it/wp-content/uploads/2022/03/23-sett-fran.jpg
END:VEVENT
BEGIN:VEVENT
DTSTART;TZID=UTC:20230917T150000
DTEND;TZID=UTC:20230917T200000
DTSTAMP:20260420T040520
CREATED:20220323T172145Z
LAST-MODIFIED:20230916T100357Z
UID:10428-1694962800-1694980800@hotboots.it
SUMMARY:Pomeriggio Country   - Bagnoli  di Sopra Pd
DESCRIPTION:Pomeriggio Country alla Ex Base Nato di Bagnoli con la  Maestra Francesca Penzo degli A star is born. Special Guest  Dj Alex \nIngresso 10  euro.\nPer info potete contattare la Maestra Francesca al 3897877538
URL:https://hotboots.it/evento/country-night-speciale-anna-taroni-bagnoli-di-sopra-pd/
LOCATION:Bagnoli  Outdoor Sport Center\, Via Galileo Galilei 7\, Bagnoli di Sopra\, Padova
CATEGORIES:PADOVA,SERATA COUNTRY,STAGE
ATTACH;FMTTYPE=image/jpeg:https://hotboots.it/wp-content/uploads/2022/03/17-sett-fran.jpg
END:VEVENT
BEGIN:VEVENT
DTSTART;TZID=Europe/Rome:20230910T210000
DTEND;TZID=Europe/Rome:20230910T235900
DTSTAMP:20260420T040520
CREATED:20180824T063330Z
LAST-MODIFIED:20250911T210322Z
UID:2808-1694379600-1694390340@hotboots.it
SUMMARY:ANTICA SAGRA DI MANDRIA IN CORTE (Pd)
DESCRIPTION:Serata country alla Antica Sagra di Mandria a Padova in pista  con il Dj Set Urban Country e i Dj Mick e Dj Alby \n 
URL:https://hotboots.it/evento/antica-sagra-di-mandria-in-corte-pd/
LOCATION:Antica Sagra di Mandria in Corte\, Via Armistizio 298\, Padova\, Padova\, Italia
CATEGORIES:PADOVA,SAGRA
ATTACH;FMTTYPE=image/jpeg:https://hotboots.it/wp-content/uploads/2025/07/country-generico-2.jpg
ORGANIZER;CN="Urban Country":MAILTO:misterfiocco@gmail.com
END:VEVENT
BEGIN:VEVENT
DTSTART;TZID=Europe/Rome:20230904T210000
DTEND;TZID=Europe/Rome:20230904T235900
DTSTAMP:20260420T040520
CREATED:20230811T163757Z
LAST-MODIFIED:20230811T163757Z
UID:13894-1693861200-1693871940@hotboots.it
SUMMARY:Country Tour 2023 - Gaianigo di Gazzo Padovano
DESCRIPTION:Magnifica New Entry al Country Tour: la rinomata festa del Bacalà di Gaianigo\, In consolle Luka & Nike Djs. Ballo su grande pista in acciaio\, Stand gastronomico super! Vi aspettiamo!
URL:https://hotboots.it/evento/country-tour-2023-gaianigo-di-gazzo-padovano/
LOCATION:Gaianigo di Gazzo P.no\, Gaianigo\, Padova
CATEGORIES:PADOVA,SAGRA
ATTACH;FMTTYPE=image/jpeg:https://hotboots.it/wp-content/uploads/2023/08/04-sett-nike.jpg
END:VEVENT
BEGIN:VEVENT
DTSTART;TZID=UTC:20230829T210000
DTEND;TZID=UTC:20230829T235900
DTSTAMP:20260420T040520
CREATED:20220826T095829Z
LAST-MODIFIED:20230823T163440Z
UID:11448-1693342800-1693353540@hotboots.it
SUMMARY:Sagra di Montà - Padova
DESCRIPTION:Serata country alla Sagra di Montà (PD) si balla su pista in acciaio all’aperto con Dj maestro Mick e Dj Set Urban Country
URL:https://hotboots.it/evento/sagra-di-san-bartolomeo-monta-pd/
LOCATION:Sagra di Montà – Padova\, VIA MONTA 208\, Padova\, Padova
CATEGORIES:PADOVA,SAGRA
ATTACH;FMTTYPE=image/jpeg:https://hotboots.it/wp-content/uploads/2020/09/country-generico-2.jpg
END:VEVENT
BEGIN:VEVENT
DTSTART;TZID=Europe/Rome:20230827T203000
DTEND;TZID=Europe/Rome:20230827T235900
DTSTAMP:20260420T040520
CREATED:20230823T160223Z
LAST-MODIFIED:20230823T160223Z
UID:13950-1693168200-1693180740@hotboots.it
SUMMARY:Festa di Fine Estate - San Pietro in Gù Pd
DESCRIPTION:Serata Country alla Festa di Fine Estate di San Pietro in Gù  con il Maestro e Dj Walter Nampelli e Dj Howdy
URL:https://hotboots.it/evento/festa-di-fine-estate-san-pietro-in-gu-pd/
LOCATION:San Pietro in Gu  – Pd\, San Pietro in Gù\, Padova
CATEGORIES:PADOVA,SAGRA
ATTACH;FMTTYPE=image/jpeg:https://hotboots.it/wp-content/uploads/2023/08/27-ago-nampe-.jpg
END:VEVENT
BEGIN:VEVENT
DTSTART;TZID=Europe/Rome:20230827T160000
DTEND;TZID=Europe/Rome:20230827T230000
DTSTAMP:20260420T040520
CREATED:20230823T162918Z
LAST-MODIFIED:20230823T162918Z
UID:13964-1693152000-1693177200@hotboots.it
SUMMARY:Pomeriggio country al Bike park  - Trebaseleghe PD
DESCRIPTION:Pomeriggio country immersi nel verde del parco “Bike Park” in console  Dj West con la migliore musica country con la collaborazione della maestra  Noemi.
URL:https://hotboots.it/evento/pomeriggio-country-al-bike-park-trebaseleghe-pd/
LOCATION:Bike Park – Trebaseleghe Pd\, via caovilla 25/c\, Trebaseleghe\, Padova
CATEGORIES:FESTE,PADOVA
ATTACH;FMTTYPE=image/jpeg:https://hotboots.it/wp-content/uploads/2023/08/27-ago-noemi.jpg
END:VEVENT
BEGIN:VEVENT
DTSTART;TZID=Europe/Rome:20230821T213000
DTEND;TZID=Europe/Rome:20230821T235900
DTSTAMP:20260420T040520
CREATED:20230818T161416Z
LAST-MODIFIED:20230818T161416Z
UID:13933-1692653400-1692662340@hotboots.it
SUMMARY:Sagra di Sant'Elena - Sant'Elena Pd
DESCRIPTION:Country Night alla Sagra di Sant’Elena Pd si balla presso i giardini della Scuola con la Maestra e Dj Francesca Penzo degli A Star is Born
URL:https://hotboots.it/evento/sagra-di-santelena-santelena-pd/
LOCATION:Sant’Elena Pd\, Sant'Elena\, Padova
CATEGORIES:PADOVA,SAGRA
ATTACH;FMTTYPE=image/jpeg:https://hotboots.it/wp-content/uploads/2023/08/21-ago-fran.jpg
END:VEVENT
BEGIN:VEVENT
DTSTART;TZID=Europe/Rome:20230819T210000
DTEND;TZID=Europe/Rome:20230819T235900
DTSTAMP:20260420T040520
CREATED:20230814T164059Z
LAST-MODIFIED:20230814T164059Z
UID:13917-1692478800-1692489540@hotboots.it
SUMMARY:E...state a Pernumia - Pernumia Pd
DESCRIPTION:Serata Country a E…State a Pernumia  si balla presso il parco Di Villa Maldura con la Maestra e Dj Francesca Penzo degli A star is Born. \n 
URL:https://hotboots.it/evento/e-state-a-pernumia-pernumia-pd/
LOCATION:Villa Maldura – Pernumia Pd\, Via Maggiore\, 17\, Pernumia\, Padova
CATEGORIES:PADOVA,SERATA COUNTRY
ATTACH;FMTTYPE=image/jpeg:https://hotboots.it/wp-content/uploads/2023/08/19-ago-fran.jpg
END:VEVENT
BEGIN:VEVENT
DTSTART;TZID=Europe/Rome:20230810T210000
DTEND;TZID=Europe/Rome:20230810T235900
DTSTAMP:20260420T040520
CREATED:20180811T153923Z
LAST-MODIFIED:20230802T163022Z
UID:2605-1691701200-1691711940@hotboots.it
SUMMARY:COUNTRY TOUR 2023- SANTA MARIA DI CITTADELLA (PD)
DESCRIPTION:Tappa speciale del Country Tour a Santa Maria di Cittadella! Unica ed inimitabile! Connubio ormai indissolubile. Si balla presso il campo polivalente in Piazza con Luka & Nike Djs in consolle. \n 
URL:https://hotboots.it/evento/17-country-tour-2018-santa-maria-di-cittadella-pd/
LOCATION:Cittadella\, via Santa Maria\, Cittadella\, Padova\, 35013\, Italia
CATEGORIES:PADOVA,SAGRA
ATTACH;FMTTYPE=image/jpeg:https://hotboots.it/wp-content/uploads/2018/08/10-ago-nike.jpg
END:VEVENT
BEGIN:VEVENT
DTSTART;TZID=UTC:20230805T203000
DTEND;TZID=UTC:20230805T235900
DTSTAMP:20260420T040520
CREATED:20220305T163914Z
LAST-MODIFIED:20230801T170825Z
UID:10338-1691267400-1691279940@hotboots.it
SUMMARY:COUNTRY NIGHT con JGOR PASIN  - Bagnoli di Sopra
DESCRIPTION:Country Night con la Maestra Francesca Penzo presso l’ ex base americana di Bagnoli di Sotto presso il Bagnoli Outdoor Sport Center. Special Guest il Maestro e Coreografo Jgor Pasin
URL:https://hotboots.it/evento/country-night-bagnoli-di-sopra-2/
LOCATION:Bagnoli  Outdoor Sport Center\, Via Galileo Galilei 7\, Bagnoli di Sopra\, Padova
CATEGORIES:PADOVA,SERATA COUNTRY
ATTACH;FMTTYPE=image/jpeg:https://hotboots.it/wp-content/uploads/2022/03/05-AGO-FRAN.jpg
END:VEVENT
BEGIN:VEVENT
DTSTART;TZID=UTC:20230728T203000
DTEND;TZID=UTC:20230728T235900
DTSTAMP:20260420T040520
CREATED:20220419T171528Z
LAST-MODIFIED:20230720T171125Z
UID:10571-1690576200-1690588740@hotboots.it
SUMMARY:COUNTRY NIght  con JOHNNY ROSSATO  - Bagnoli  di Sopra Pd
DESCRIPTION:Super Super Country Night alla ex base Nato di Bagnoli con la Maestra Francesca Penzo degli A Star is Born ci sarà come Special Guest il coreografo Gianmarco Johnny Rossato. \nIngresso 15 euro! \nPer informazioni contattare la Maestra Francesca al 3897877538
URL:https://hotboots.it/evento/country-night-bagnoli-di-sopra-pd-2/
LOCATION:Bagnoli  Outdoor Sport Center\, Via Galileo Galilei 7\, Bagnoli di Sopra\, Padova
CATEGORIES:PADOVA,SERATA COUNTRY
ATTACH;FMTTYPE=image/jpeg:https://hotboots.it/wp-content/uploads/2022/04/28-lug-fran.jpg
END:VEVENT
BEGIN:VEVENT
DTSTART;TZID=UTC:20230725T210000
DTEND;TZID=UTC:20230725T235900
DTSTAMP:20260420T040520
CREATED:20220721T174516Z
LAST-MODIFIED:20230724T163029Z
UID:11243-1690318800-1690329540@hotboots.it
SUMMARY:Sagra Saletto di Vigodarzere PD
DESCRIPTION:Country Night alla Sagra di Saletto di Vigodarzere Pd con Dj Mick e Dj Set Urban Country si balla su pista in acciaio all’aperto
URL:https://hotboots.it/evento/sagra-saletto-di-vigodarzere-pd/
LOCATION:Sagra di Saletto di Vigodarzere Pd\, via leonardo da vinci\, Saletto di Vigodarzere\, Padova
CATEGORIES:PADOVA,SAGRA
ATTACH;FMTTYPE=image/png:https://hotboots.it/wp-content/uploads/2022/05/country-line-dance-generica-1.png
END:VEVENT
BEGIN:VEVENT
DTSTART;TZID=Europe/Rome:20230720T210000
DTEND;TZID=Europe/Rome:20230720T235900
DTSTAMP:20260420T040520
CREATED:20230706T174404Z
LAST-MODIFIED:20230706T174404Z
UID:13650-1689886800-1689897540@hotboots.it
SUMMARY:Sagra di San Giacomo Apostolo – Arzercavalli Pd
DESCRIPTION:Nuova location per le nostre country night alla Sagra di S. Giacomo Apostolo di Arzercavalli Pd si balla all’aperto su pista acciaio vicino la chiesa\, presso campo sportivo dietro scuola dell’infanzia. In consolle  Dj set Urban Country e i  Dj’s Paolo e  Michele.
URL:https://hotboots.it/evento/sagra-di-san-giacomo-apostolo-arzercavalli-pd/
LOCATION:Arzercavalli Pd\, via navegauro 42\, Arzercavalli\, Padova
CATEGORIES:PADOVA,SAGRA
END:VEVENT
BEGIN:VEVENT
DTSTART;TZID=Europe/Rome:20230702T210000
DTEND;TZID=Europe/Rome:20230702T235900
DTSTAMP:20260420T040520
CREATED:20190625T133726Z
LAST-MODIFIED:20230628T171825Z
UID:6528-1688331600-1688342340@hotboots.it
SUMMARY:SAGRA TERRASSA PAD. -PD
DESCRIPTION:7 ‘ festa della bontà di Bufala strepitosa serata con Dj set Urban country e con i Maestri e Dj’s Michele Chiereghin e Paolo Gusella
URL:https://hotboots.it/evento/urban-country-a-terrassa-pad-pd/
LOCATION:Parco Gasparotto
CATEGORIES:PADOVA,SAGRA
ATTACH;FMTTYPE=image/jpeg:https://hotboots.it/wp-content/uploads/2019/06/2-lug-fiocco-e1687972682860.jpg
END:VEVENT
BEGIN:VEVENT
DTSTART;TZID=Europe/Rome:20230624T203000
DTEND;TZID=Europe/Rome:20230624T235900
DTSTAMP:20260420T040520
CREATED:20230622T152325Z
LAST-MODIFIED:20230622T152325Z
UID:13500-1687638600-1687651140@hotboots.it
SUMMARY:Country alla Notte Oro - Piove di sacco PD
DESCRIPTION:Country alla Notte Oro a Piove di Sacco con  Dj Fox e la Maestra Noemi Rigon degli Urban Country. \nSi balla all’aperto sull’asfalto accanto al negozio le Follie by Alice. Consigliati stivali da battaglia! \n  \n 
URL:https://hotboots.it/evento/country-alla-notte-oro-piove-di-sacco-pd/
LOCATION:Notte Oro – Piove di Sacco Pd\, Piove di sacco\, Padova
CATEGORIES:FESTE,PADOVA
ATTACH;FMTTYPE=image/jpeg:https://hotboots.it/wp-content/uploads/2023/06/24-giu-noemi.jpg
END:VEVENT
BEGIN:VEVENT
DTSTART;TZID=Europe/Rome:20230617T200000
DTEND;TZID=Europe/Rome:20230617T235900
DTSTAMP:20260420T040520
CREATED:20230613T175520Z
LAST-MODIFIED:20230613T175520Z
UID:10936-1687032000-1687046340@hotboots.it
SUMMARY:CARNEVALE NIGHT PARTY  BAGNOLI DI SOPRA - Pd
DESCRIPTION:Si  balla al Carnevale Notturno di Bagnoli di Sopra Padova con la Maestra  e Dj  Francesca Penzo Assieme alla teacher Barbara Bobbo Sofia Bertazzo . \nSi consiglia di arrivare presto così riusciamo a ballare prima del passaggio dei carri allegorici\, per poi proseguire dopo la marcia dei carri!
URL:https://hotboots.it/evento/carnevale-night-party-bagnoli-di-sopra-pd/
LOCATION:Bagnoli di Sopra – Pd\, Bagnoli di Sopra\, Padova
CATEGORIES:FESTE,PADOVA
ATTACH;FMTTYPE=image/jpeg:https://hotboots.it/wp-content/uploads/2023/06/17-giu-fran.jpg
END:VEVENT
BEGIN:VEVENT
DTSTART;TZID=Europe/Rome:20230610T210000
DTEND;TZID=Europe/Rome:20230610T235900
DTSTAMP:20260420T040520
CREATED:20230605T175117Z
LAST-MODIFIED:20230605T175314Z
UID:13379-1686430800-1686441540@hotboots.it
SUMMARY:Sagra di San Basilio - Roncaglia Pd
DESCRIPTION:Nuovo appuntamento con il ballo e la musica country presso la sagra di San Basilio a Roncaglia (PD). Alby e Paolo vi intratterranno con la migliore musica country\, spaziando dai vecchi “old” alla più attuale e gettonata del momento. \nIn pista i maestri Roby\, Serena e Davide vi intratterranno in pista con la possibilità anche per chi non ha mai provato\, di muovere i primi passi di ballo sulla country music\, con l’insegnamento di una semplice coreografia aperta anche ai bambini. \n 
URL:https://hotboots.it/evento/sagra-di-san-basilio-roncaglia-pd/
LOCATION:Parrocchia di Roncaglia Pd\, Via Piave\, 7\,\, Padova
CATEGORIES:PADOVA,SAGRA
ATTACH;FMTTYPE=image/jpeg:https://hotboots.it/wp-content/uploads/2023/06/10-giu-country.jpg
END:VEVENT
BEGIN:VEVENT
DTSTART;TZID=Europe/Rome:20230609T210000
DTEND;TZID=Europe/Rome:20230609T235900
DTSTAMP:20260420T040520
CREATED:20230601T135922Z
LAST-MODIFIED:20230601T135922Z
UID:13335-1686344400-1686355140@hotboots.it
SUMMARY:Country Tour 2023 SUMMER PRA - Conselve (PD)
DESCRIPTION:E il Country Tour arriva finalmente anche a Conselve all’interno della magnifica location  del Summer Pra 2023. Ci troverete una pista in legno favolosa da 200 mq e la direzione musicale dei mitici Tre Pistoleros: Dj Alex\, Luka & Nike. In pista la simpaticissima maestra Francesca Penzo.
URL:https://hotboots.it/evento/country-tour-2023-summer-pra-conselve-pd/
LOCATION:Summer Pra – Conselve Pd\, Via Vittorio Emanuele II\, Conselve\, Padova
CATEGORIES:FESTE,PADOVA
ATTACH;FMTTYPE=image/jpeg:https://hotboots.it/wp-content/uploads/2023/06/09-giu-nike.jpg
END:VEVENT
BEGIN:VEVENT
DTSTART;TZID=UTC:20230527T203000
DTEND;TZID=UTC:20230527T235900
DTSTAMP:20260420T040520
CREATED:20220504T170103Z
LAST-MODIFIED:20230502T170951Z
UID:10696-1685219400-1685231940@hotboots.it
SUMMARY:Festa di Primavera - Galliera Veneta  Pd
DESCRIPTION:Ci attende un fantastico scenario per il ritorno del Country Tour a Galliera Veneta: il magnifico Parco della Villa Imperiale in occasione della Festa di Primavera !\nUna mitica pista in acciaio sarà palcoscenico di una serata all’insegna del massimo divertimento garantito dalla presenza in consolle dei Tre Caballeros Eros Luka & Nike Djs. \nINGRESSO LIBERO
URL:https://hotboots.it/evento/festa-di-primavera-galliera-veneta-pd/
LOCATION:Villa Imperiale – Galliera  Veneta\, Strada Provinciale 28\, Galliera Veneta\, Padova
CATEGORIES:FESTE,PADOVA
ATTACH;FMTTYPE=image/jpeg:https://hotboots.it/wp-content/uploads/2022/05/27-mag-nike.jpg
END:VEVENT
BEGIN:VEVENT
DTSTART;TZID=Europe/Rome:20230527T190000
DTEND;TZID=Europe/Rome:20230527T235900
DTSTAMP:20260420T040520
CREATED:20230523T170750Z
LAST-MODIFIED:20230523T170750Z
UID:13277-1685214000-1685231940@hotboots.it
SUMMARY:Country al River Club- Borgo Veneto PD
DESCRIPTION:Il New River Club con la nuova gestione e in collaborazione con Urban Country vi aspetta per ballare sulla musica Country. \nPer l’occasione sarà allestita una pista da ballo in plastica  in console Dj e maestro Paolo Gusella .
URL:https://hotboots.it/evento/country-al-river-club-borgo-veneto-pd/
LOCATION:New River Club – Borgo Veneto Pd\, via prà di botte 34\, Borgo Veneto\, Padova
CATEGORIES:PADOVA,SERATA COUNTRY
ATTACH;FMTTYPE=image/jpeg:https://hotboots.it/wp-content/uploads/2023/05/27-maggio-paolo.jpg
END:VEVENT
BEGIN:VEVENT
DTSTART;TZID=Europe/Rome:20230520T203000
DTEND;TZID=Europe/Rome:20230520T235900
DTSTAMP:20260420T040520
CREATED:20220212T142322Z
LAST-MODIFIED:20230503T110417Z
UID:10245-1684614600-1684627140@hotboots.it
SUMMARY:COUNTRY NIGHT con TEO LATTANZIO - BAGNOLI DI SOPRA Pd
DESCRIPTION:Super Country Night con la Maestra Francesca Penzo presso il Bagnoli Outdoor Sport Center  ex base Nato di Bagnoli di Sotto. Special Guest della serata il coreografo Teo Lattanzio. \n 
URL:https://hotboots.it/evento/country-carnival-party-bagnoli-di-sopra-pd/
LOCATION:Bagnoli  Outdoor Sport Center\, Via Galileo Galilei 7\, Bagnoli di Sopra\, Padova
CATEGORIES:PADOVA,SERATA COUNTRY
ATTACH;FMTTYPE=image/jpeg:https://hotboots.it/wp-content/uploads/2022/02/20-mag-fran.jpg
END:VEVENT
END:VCALENDAR