BEGIN:VCALENDAR
VERSION:2.0
PRODID:-//HOT BOOTS - ECPv6.15.20//NONSGML v1.0//EN
CALSCALE:GREGORIAN
METHOD:PUBLISH
X-ORIGINAL-URL:https://hotboots.it
X-WR-CALDESC:Eventi per HOT BOOTS
REFRESH-INTERVAL;VALUE=DURATION:PT1H
X-Robots-Tag:noindex
X-PUBLISHED-TTL:PT1H
BEGIN:VTIMEZONE
TZID:Europe/Rome
BEGIN:DAYLIGHT
TZOFFSETFROM:+0100
TZOFFSETTO:+0200
TZNAME:CEST
DTSTART:20220327T010000
END:DAYLIGHT
BEGIN:STANDARD
TZOFFSETFROM:+0200
TZOFFSETTO:+0100
TZNAME:CET
DTSTART:20221030T010000
END:STANDARD
BEGIN:DAYLIGHT
TZOFFSETFROM:+0100
TZOFFSETTO:+0200
TZNAME:CEST
DTSTART:20230326T010000
END:DAYLIGHT
BEGIN:STANDARD
TZOFFSETFROM:+0200
TZOFFSETTO:+0100
TZNAME:CET
DTSTART:20231029T010000
END:STANDARD
BEGIN:DAYLIGHT
TZOFFSETFROM:+0100
TZOFFSETTO:+0200
TZNAME:CEST
DTSTART:20240331T010000
END:DAYLIGHT
BEGIN:STANDARD
TZOFFSETFROM:+0200
TZOFFSETTO:+0100
TZNAME:CET
DTSTART:20241027T010000
END:STANDARD
BEGIN:DAYLIGHT
TZOFFSETFROM:+0100
TZOFFSETTO:+0200
TZNAME:CEST
DTSTART:20250330T010000
END:DAYLIGHT
BEGIN:STANDARD
TZOFFSETFROM:+0200
TZOFFSETTO:+0100
TZNAME:CET
DTSTART:20251026T010000
END:STANDARD
END:VTIMEZONE
BEGIN:VTIMEZONE
TZID:UTC
BEGIN:STANDARD
TZOFFSETFROM:+0000
TZOFFSETTO:+0000
TZNAME:UTC
DTSTART:20230101T000000
END:STANDARD
END:VTIMEZONE
BEGIN:VEVENT
DTSTART;TZID=Europe/Rome:20240730T210000
DTEND;TZID=Europe/Rome:20240730T235900
DTSTAMP:20260419T215805
CREATED:20200904T081813Z
LAST-MODIFIED:20240628T130557Z
UID:9177-1722373200-1722383940@hotboots.it
SUMMARY:Country Night al Borgo & Co.- Piazzola S.B. Pd
DESCRIPTION:Il Country Tour  con i Dj Nike e Alex ci portano in una location a dir poco suggestiva. Di fronte ad una delle ville venete più belle\, Villa Contarini.
URL:https://hotboots.it/evento/country-night-al-borgo-co-piazzola-s-b-pd-2/
LOCATION:Villa Contarini\, Piazzola sul Brenta\, Padova
CATEGORIES:PADOVA,STAGE
ATTACH;FMTTYPE=image/jpeg:https://hotboots.it/wp-content/uploads/2021/06/18-giu-borgo.jpg
END:VEVENT
BEGIN:VEVENT
DTSTART;TZID=UTC:20240727T213000
DTEND;TZID=UTC:20240727T235900
DTSTAMP:20260419T215805
CREATED:20220323T183931Z
LAST-MODIFIED:20240723T160907Z
UID:10447-1722115800-1722124740@hotboots.it
SUMMARY:COUNTRY NIGHT - Conselve Pd
DESCRIPTION:Serata Country presso Jolly Bar di Conselve\,  in consolle Dj Set Urban Country e con il Maestro e dj Mick . \nSi balla su pista  all’aperto lastroni o plastica
URL:https://hotboots.it/evento/country-carnevale-conselve-pd/
LOCATION:JOLLY BAR Conselve Pd\, piazza Cesare Battisti\, Conselve\, Padova
CATEGORIES:PADOVA,SERATA COUNTRY
ATTACH;FMTTYPE=image/png:https://hotboots.it/wp-content/uploads/2022/05/country-line-dance-generica-1.png
END:VEVENT
BEGIN:VEVENT
DTSTART;TZID=Europe/Rome:20240720T210000
DTEND;TZID=Europe/Rome:20240720T235900
DTSTAMP:20260419T215805
CREATED:20181007T163235Z
LAST-MODIFIED:20240719T125949Z
UID:3665-1721509200-1721519940@hotboots.it
SUMMARY:FESTA ALLA FAZENDA DI LIMENA (PD)
DESCRIPTION:Festa Country presso l’AZIENDA AGRICOLA LA FAZENDA di Limena PD\, si balla su una pista in legno all’aperto con Dj Set Urban Country.
URL:https://hotboots.it/evento/festa-alla-fazenda-di-limena-pd/
LOCATION:Azienda Agr. La Fazenda Limena Pd\, Via Brusoni 3\, Limena\, Padova\, Italia
CATEGORIES:FESTE,PADOVA
ATTACH;FMTTYPE=image/jpeg:https://hotboots.it/wp-content/uploads/2018/10/gereica-3.jpg
END:VEVENT
BEGIN:VEVENT
DTSTART;TZID=Europe/Rome:20240713T210000
DTEND;TZID=Europe/Rome:20240713T235900
DTSTAMP:20260419T215805
CREATED:20240131T221156Z
LAST-MODIFIED:20240713T132737Z
UID:13760-1720904400-1720915140@hotboots.it
SUMMARY:Attività sportiva Country  - Albignasego PD
DESCRIPTION:Country Night presso il Circolo Noi – Sala Stella Parrocchia di San Lorenzo  Albignasego Pd con Dj set Urban Country
URL:https://hotboots.it/evento/attivita-sportiva-country-albignasego-pd/
LOCATION:Parrocchia di San Lorenzo – Albignasego\, Albignasego\, Padova
CATEGORIES:PADOVA,SERATA COUNTRY
ATTACH;FMTTYPE=image/png:https://hotboots.it/wp-content/uploads/2024/01/country-line-dance-generica-1.png
END:VEVENT
BEGIN:VEVENT
DTSTART;TZID=UTC:20240706T210000
DTEND;TZID=UTC:20240706T235900
DTSTAMP:20260419T215805
CREATED:20220721T173945Z
LAST-MODIFIED:20240703T125604Z
UID:11240-1720299600-1720310340@hotboots.it
SUMMARY:Country Night al Bar Centrale da Emma - San Giorgio delle Pertiche Pd
DESCRIPTION:Serata Country con Dj set Urban Country si balla su pista in legno al coperto.
URL:https://hotboots.it/evento/country-night-al-bar-centrale-da-emma-san-giorgio-delle-pertiche-pd/
LOCATION:Bar Centrale  da Emma – S. Giorgio delle Pertiche Pd\, Via Roma\, 75\, San Giorgio delle pertiche\, Padova
CATEGORIES:PADOVA,SERATA COUNTRY
ATTACH;FMTTYPE=image/png:https://hotboots.it/wp-content/uploads/2022/05/country-line-dance-generica-1.png
END:VEVENT
BEGIN:VEVENT
DTSTART;TZID=Europe/Rome:20240705T210000
DTEND;TZID=Europe/Rome:20240705T235900
DTSTAMP:20260419T215805
CREATED:20230706T171706Z
LAST-MODIFIED:20240703T125407Z
UID:13630-1720213200-1720223940@hotboots.it
SUMMARY:Notte gialla - Conselve (PD)
DESCRIPTION:Alla Notte Gialla di Conselve si balla Country in console Dj e Meastra Cristina con la sua stretta collaboratrice Emy con la migliore musica country \nDress Code Giallo per rimanere in tema.
URL:https://hotboots.it/evento/notte-gialla-conselve-pd/
LOCATION:Conselve Pd\, Via Cesare Battisti\, Conselve\, Padova
CATEGORIES:FESTE,PADOVA
ATTACH;FMTTYPE=image/jpeg:https://hotboots.it/wp-content/uploads/2023/07/05-lug-urban.jpg
END:VEVENT
BEGIN:VEVENT
DTSTART;TZID=Europe/Rome:20240705T200000
DTEND;TZID=Europe/Rome:20240705T235900
DTSTAMP:20260419T215805
CREATED:20240702T105914Z
LAST-MODIFIED:20240702T105914Z
UID:15380-1720209600-1720223940@hotboots.it
SUMMARY:Beach Country Night - Piazzola sul Brenta Pd
DESCRIPTION:Nell’ambito del Torneo di Beach Volley del Patronato di Piazzola sul Brenta una travolgente serata Country in compagnia dei DJs Alex Luka & Nike. Ballo ad ingresso gratuito su pista esterna in cemento liscio.
URL:https://hotboots.it/evento/beach-country-night-piazzola-sul-brenta-pd/
LOCATION:Duomo di Piazzola sul Brenta\, Piazza mons. Luigi Carpenedo\, Piazzola sul Brenta\, Padova
CATEGORIES:FESTE,PADOVA,SERATA COUNTRY
ATTACH;FMTTYPE=image/jpeg:https://hotboots.it/wp-content/uploads/2024/07/05-lug.jpg
END:VEVENT
BEGIN:VEVENT
DTSTART;TZID=Europe/Rome:20240702T210000
DTEND;TZID=Europe/Rome:20240702T235900
DTSTAMP:20260419T215805
CREATED:20210624T110141Z
LAST-MODIFIED:20240628T130240Z
UID:9462-1719954000-1719964740@hotboots.it
SUMMARY:Country Night al Borgo & Co.- Piazzola S.B. Pd
DESCRIPTION:Si ritorna finalmente  al Borgo & Co con Country Tour  con i Dj Nike e Alex si balla di fronte ad una delle ville venete più belle\, Villa Contarini insieme alla scuola Texas Rose. Una location incantevole e una colonna sonora country di tutta eccellenza.
URL:https://hotboots.it/evento/country-night-al-borgo-co-piazzola-s-b-pd-4/
LOCATION:Villa Contarini\, Piazzola sul Brenta\, Padova
CATEGORIES:PADOVA,STAGE
ATTACH;FMTTYPE=image/jpeg:https://hotboots.it/wp-content/uploads/2021/06/18-giu-borgo.jpg
END:VEVENT
BEGIN:VEVENT
DTSTART;TZID=Europe/Rome:20240628T200000
DTEND;TZID=Europe/Rome:20240628T235900
DTSTAMP:20260419T215805
CREATED:20240628T103820Z
LAST-MODIFIED:20240628T103820Z
UID:15341-1719604800-1719619140@hotboots.it
SUMMARY:Sagra Casale di Scodosia Pd
DESCRIPTION:Venerdì 28 giugno 2024 presso la piazza centrale del comune di Casale di Scodosia (PD) ci sarà il primo AMERICAN DANCE PARTY\nSerata country capitanata dal Maestro Mirko della Paradise Dance\, dal DJ e Maestro Paolo Gusella degli Urban Country e dal DJ e Maestro Stefano Segantini dei Wild Eagles\nDivertimento garantito grazie ad una grande pista da ballo dove si potrà ballare le migliori coreografie country del momento per tutta la notte\nNEWS 2024: FOOD TRUCKS E STREET FOOD: Già dalle ore 19:00 Possibilità di cenare a bordo pista grazie alla presenza di diversi Food Truck che sapranno deliziarvi con ottimo cibo cucinato al momento\nLa serata sarà in piazza Matteotti a Casale di Scodosia (PD)\n Vi aspettiamo per un evento imperdibile
URL:https://hotboots.it/evento/sagra-casale-di-scodosia-pd/
LOCATION:SAGRA CASALE DI SCODOSIA PD\, Piazza Matteotti\, Casale di Scodosia\, Padova
CATEGORIES:PADOVA,SAGRA
ATTACH;FMTTYPE=image/jpeg:https://hotboots.it/wp-content/uploads/2024/06/28-giu-paolo.jpg
END:VEVENT
BEGIN:VEVENT
DTSTART;TZID=Europe/Rome:20240623T210000
DTEND;TZID=Europe/Rome:20240623T235900
DTSTAMP:20260419T215805
CREATED:20240620T205528Z
LAST-MODIFIED:20240620T205528Z
UID:15327-1719176400-1719187140@hotboots.it
SUMMARY:COUNTRY NIGHT@SAPORI&COLORI - CEVARESE SANTA CROCE PD
DESCRIPTION:Una serata stratosferica presso SAPORI&COLORI con la Maestra e Dj Francesca Penzo degli A Star is Born.
URL:https://hotboots.it/evento/country-nightsaporicolori-cevarese-santa-croce-pd/
LOCATION:SAPORI&COLORI Cervarese S.ta Croce Pd\, Via Fossona\, CERVARESE SANTA CROCE\, Padova
CATEGORIES:PADOVA,SERATA COUNTRY
ATTACH;FMTTYPE=image/jpeg:https://hotboots.it/wp-content/uploads/2024/06/23-GIU-FRA.jpg
END:VEVENT
BEGIN:VEVENT
DTSTART;TZID=Europe/Rome:20240621T210000
DTEND;TZID=Europe/Rome:20240621T235900
DTSTAMP:20260419T215805
CREATED:20240619T110129Z
LAST-MODIFIED:20240619T110129Z
UID:15301-1719003600-1719014340@hotboots.it
SUMMARY:El Pequeño Bistrò Country - Busa di Vigonza Pd
DESCRIPTION:Serata Country presso il ristorante messicano El Pequeño Bistrò di Busa di Vigonza con Dj set Urban Country. Si balla all’aperto ma in caso di pioggia si passa all’interno del locale
URL:https://hotboots.it/evento/el-pequeno-bistro-country-busa-di-vigonza-pd/
LOCATION:El Pequeño Bistrò – Busa di Vigonza Pd\, Via Padova\, 65A\, Vigonza\, Padova
CATEGORIES:PADOVA,SERATA COUNTRY
ATTACH;FMTTYPE=image/png:https://hotboots.it/wp-content/uploads/2024/06/el-pequegno.png
END:VEVENT
BEGIN:VEVENT
DTSTART;TZID=UTC:20240621T210000
DTEND;TZID=UTC:20240621T235900
DTSTAMP:20260419T215805
CREATED:20220425T164352Z
LAST-MODIFIED:20240619T201601Z
UID:10639-1719003600-1719014340@hotboots.it
SUMMARY:FESTA DEL DONATORE - Ponterotto Pd
DESCRIPTION:Grande nuova serata al Country Tour con la Festa del Donatore a Ponterotto in Zona Montà alle porte di Padova\, Si balla su una magnifica pista in acciaio. In consolle Alex Luka & Nike per una serata per tutti i gusti\, Divertimento certo!
URL:https://hotboots.it/evento/sagra-di-ponterotto-ponterotto-pd/
LOCATION:Festa Del Donatore – Ponterotto Pd\, Piazza Donatore di Sangue\, 10\, Ponterotto\, Padova
CATEGORIES:PADOVA,SAGRA
ATTACH;FMTTYPE=image/jpeg:https://hotboots.it/wp-content/uploads/2022/04/21-giu-nike.jpg
END:VEVENT
BEGIN:VEVENT
DTSTART;TZID=Europe/Rome:20240615T210000
DTEND;TZID=Europe/Rome:20240615T210000
DTSTAMP:20260419T215805
CREATED:20240612T102559Z
LAST-MODIFIED:20240612T102559Z
UID:15256-1718485200-1718485200@hotboots.it
SUMMARY:Crc-Anima & Musica Country Night - Abano Terme Pd
DESCRIPTION:Serata con i Country con i 3 Pistoleros: Dj Luka & Nike e Alex in pista la Maestra Francy cena e apericena aperta a tutti\, danze su pista in legno all’ aperto
URL:https://hotboots.it/evento/crc-anima-musica-country-night-abano-terme-pd/
LOCATION:Crc-Anima & Musica Abano Terme Pd\, Via Giuseppe Donati\, 3\, Abano Terme\, Padova
CATEGORIES:PADOVA,SERATA COUNTRY
ATTACH;FMTTYPE=image/jpeg:https://hotboots.it/wp-content/uploads/2024/06/15-giu-nike.jpg
END:VEVENT
BEGIN:VEVENT
DTSTART;TZID=Europe/Rome:20240609T210000
DTEND;TZID=Europe/Rome:20240609T235900
DTSTAMP:20260419T215805
CREATED:20230916T092150Z
LAST-MODIFIED:20240528T201320Z
UID:14054-1717966800-1717977540@hotboots.it
SUMMARY:Country Tour 2024 - San Biagio di Teolo Padova
DESCRIPTION:Serata Country Tour con i Dj’s Alex\, Lika & Nike presso la SAN BIAGIO MUSIC FEST a San Biagio di Teolo Pd. Si balla su pista polivalente al coperto.
URL:https://hotboots.it/evento/tex-mex-country-san-biagio-di-teolo-padova/
LOCATION:Parco Educazione\, Stradale di San Biagio di Teolo\, Teolo\, Padova
CATEGORIES:PADOVA,SAGRA
ATTACH;FMTTYPE=image/jpeg:https://hotboots.it/wp-content/uploads/2023/09/9-giu-nike.jpg
END:VEVENT
BEGIN:VEVENT
DTSTART;TZID=Europe/Rome:20240607T210000
DTEND;TZID=Europe/Rome:20240607T235900
DTSTAMP:20260419T215805
CREATED:20230613T172646Z
LAST-MODIFIED:20240528T205921Z
UID:13438-1717794000-1717804740@hotboots.it
SUMMARY:Sagra Dei Ferri - Albignasego PD
DESCRIPTION:Serata Country alla Sagra  dei Ferri  ad Albignasego Pd\, in console DJ Mick e Dj Set Urban Country \nPista all’aperto nel campo di basket \nCome arrivare google maps
URL:https://hotboots.it/evento/sagra-dei-ferri-albignasego-pd/
LOCATION:Parrocchia di S.ta Maria Annunziata – Albignasego Pd\, Via Barbarigo 10\, Albignasego\, Padova
CATEGORIES:PADOVA,SAGRA
ATTACH;FMTTYPE=image/jpeg:https://hotboots.it/wp-content/uploads/2018/08/generica-vanna.jpg
END:VEVENT
BEGIN:VEVENT
DTSTART;TZID=Europe/Rome:20240605T203000
DTEND;TZID=Europe/Rome:20240605T235900
DTSTAMP:20260419T215805
CREATED:20240604T204139Z
LAST-MODIFIED:20240604T204139Z
UID:15233-1717619400-1717631940@hotboots.it
SUMMARY:Festa del Gnocco Fritto - Campodoro Pd
DESCRIPTION:Serata Country alla Festa del Gnocco Fritto di Campodoro Pd in consolle i Dj Walter\, Paolo e Howdy
URL:https://hotboots.it/evento/festa-del-gnocco-fritto-campodoro-pd/
LOCATION:Festa del Gnocco – Campodoro Pd\, Via Palazzina 1\, Campodoro\, Padova
CATEGORIES:PADOVA,SAGRA
ATTACH;FMTTYPE=image/jpeg:https://hotboots.it/wp-content/uploads/2024/06/05-giu-nampe.jpg
END:VEVENT
BEGIN:VEVENT
DTSTART;TZID=Europe/Rome:20240601T210000
DTEND;TZID=Europe/Rome:20240601T235900
DTSTAMP:20260419T215805
CREATED:20240516T104913Z
LAST-MODIFIED:20240516T105007Z
UID:15115-1717275600-1717286340@hotboots.it
SUMMARY:Country Tour 2024 - San Domenico di Selvazzano Pd
DESCRIPTION:Grande serata presso la sagra a San Domenico di Selvazzano: in consolle i Tre Pistoleros Alex Luka & Nike. In pista la maestra Francesca Penzo degli A star is Born. Serata garantita anche in caso di maltempo\, Si balla all’esterno e\, nel caso di pioggia\, tutti sotto il tendone.
URL:https://hotboots.it/evento/country-tour-2024-san-domenico-di-selvazzano-pd/
LOCATION:Padova
CATEGORIES:PADOVA,SAGRA
ATTACH;FMTTYPE=image/jpeg:https://hotboots.it/wp-content/uploads/2024/05/1-giu-nike.jpg
END:VEVENT
BEGIN:VEVENT
DTSTART;TZID=Europe/Rome:20240525T203000
DTEND;TZID=Europe/Rome:20240525T235900
DTSTAMP:20260419T215805
CREATED:20230512T165610Z
LAST-MODIFIED:20240523T143624Z
UID:13223-1716669000-1716681540@hotboots.it
SUMMARY:Country Night alla Sagra dei Bigoli - Carbonara di Rovolon Pd
DESCRIPTION:Country Night alla Sagra dei Bigoli con live dei Silverado Country Band e DJ set con la Maestra Cristina degli Urban Country. \n 
URL:https://hotboots.it/evento/country-night-alla-sagra-dei-bigoli-carbonara-di-rovolon-pd/
LOCATION:Sagra dei Bigoli – Carbonara Pd\, via s. Giovanni Battista 78\, Carbonara di Rovolon\, Padova
CATEGORIES:PADOVA,SAGRA
ATTACH;FMTTYPE=image/jpeg:https://hotboots.it/wp-content/uploads/2023/05/25-mag-cris.jpg
END:VEVENT
BEGIN:VEVENT
DTSTART;TZID=Europe/Rome:20240512T160000
DTEND;TZID=Europe/Rome:20240512T235900
DTSTAMP:20260419T215805
CREATED:20190619T205534Z
LAST-MODIFIED:20240510T124604Z
UID:6479-1715529600-1715558340@hotboots.it
SUMMARY:BRUGINE COUNTRY DAY CON STEFANO CIVA  -Brugine Pd
DESCRIPTION:Per la Festa della Rosa balleremo in un bellissimo giardino di rose a Brugine con la Maestra Francesca Penzo degli A star is born e il coreografo Stefano Civa
URL:https://hotboots.it/evento/sagra-campagnola-di-brugine-pd/
LOCATION:Festa della Rosa – Brugine\, Via Roma 23\, Brugine\, Padova
CATEGORIES:PADOVA,SAGRA
ATTACH;FMTTYPE=image/jpeg:https://hotboots.it/wp-content/uploads/2024/04/12-mag-fran.jpg
END:VEVENT
BEGIN:VEVENT
DTSTART;TZID=Europe/Rome:20240430T210000
DTEND;TZID=Europe/Rome:20240430T235900
DTSTAMP:20260419T215805
CREATED:20231219T182859Z
LAST-MODIFIED:20240430T105137Z
UID:14569-1714510800-1714521540@hotboots.it
SUMMARY:Greenwich - Fontaniva PD
DESCRIPTION:Il Greenwich Fontaniva si trasforma in un pazzo mondo fatto di cappelli\, stivali e balli western al suono dei migliori successi country. In consolle quei figurini di Alex Luka & Nike Djs i Tre Pistoleros\n\nPer info e prenotazioni  049 597 5925
URL:https://hotboots.it/evento/greenwich-fontaniva-pd/
LOCATION:Greenwich – Fontaniva\, via Marconi 104\, Fontaniva\, Padova
CATEGORIES:PADOVA,SERATA COUNTRY
ATTACH;FMTTYPE=image/jpeg:https://hotboots.it/wp-content/uploads/2023/12/30-apr-nike-.jpg
END:VEVENT
BEGIN:VEVENT
DTSTART;TZID=Europe/Rome:20240421T210000
DTEND;TZID=Europe/Rome:20240421T235900
DTSTAMP:20260419T215805
CREATED:20240417T210910Z
LAST-MODIFIED:20240417T211141Z
UID:14969-1713733200-1713743940@hotboots.it
SUMMARY:Celeseo in Sagra - Piove di Sacco Pd
DESCRIPTION:Serata Country alla Sagra di Celeseo di Piove di Sacco Pd con Dj Set Urban Country
URL:https://hotboots.it/evento/celeseo-in-sagra-piove-di-sacco-pd/
LOCATION:Sagra di Celeseo\, via cornio 6\, Celeseo di Piove di Sacco\, Padova
CATEGORIES:PADOVA,SAGRA
ATTACH;FMTTYPE=image/jpeg:https://hotboots.it/wp-content/uploads/2024/04/21-apr-urban-e1744281741145.jpg
END:VEVENT
BEGIN:VEVENT
DTSTART;TZID=Europe/Rome:20240413T170000
DTEND;TZID=Europe/Rome:20240413T235900
DTSTAMP:20260419T215805
CREATED:20240306T213800Z
LAST-MODIFIED:20240306T213800Z
UID:14803-1713027600-1713052740@hotboots.it
SUMMARY:Big Country Day - Abato Terme Pd
DESCRIPTION:Big Country Day  una giornata con tre amatissimi coreografi David Villellas\, Pol Ryan e Johnny Rossato l’Infinity Sport Village di Abano Terme Pd organizzata dalla Maestra Francesca Penzo degli A Star is Born. \nPrenotazione Obbligatoria entro il 24 marzo al numero 331 955 1019 Elena
URL:https://hotboots.it/evento/big-country-day-abato-terme-pd/
LOCATION:Infinity Sport Village – Abano Terme Pd\, Via San Lorenzo 15\, Abano Terme\, Padova
CATEGORIES:PADOVA,SERATA COUNTRY
ATTACH;FMTTYPE=image/jpeg:https://hotboots.it/wp-content/uploads/2024/03/13-apr-fran-.jpg
END:VEVENT
BEGIN:VEVENT
DTSTART;TZID=Europe/Rome:20240120T203000
DTEND;TZID=Europe/Rome:20240120T235900
DTSTAMP:20260419T215805
CREATED:20231005T155732Z
LAST-MODIFIED:20240102T182039Z
UID:14255-1705782600-1705795140@hotboots.it
SUMMARY:Country Night con Teo Lattanzio  - Brugine Pd
DESCRIPTION:Temporaneamente le attività  alle Ex Base Nato di Bagnoli si spostano qui nella Sala Polivalente di Brugine Pd. Special Guest il Coreografo Teo Lattanzio. \n  \n 
URL:https://hotboots.it/evento/country-night-con-silvia-denise-staiti-brugine-pd/
LOCATION:Sala Polivalente – Brugine Pd\, Via Palu inferiore 4\, Brugine\, Padova
CATEGORIES:PADOVA,SERATA COUNTRY,STAGE
ATTACH;FMTTYPE=image/jpeg:https://hotboots.it/wp-content/uploads/2023/10/20-gen-fran.jpg
END:VEVENT
BEGIN:VEVENT
DTSTART;TZID=Europe/Rome:20240113T203000
DTEND;TZID=Europe/Rome:20240113T235900
DTSTAMP:20260419T215805
CREATED:20231005T165914Z
LAST-MODIFIED:20240102T181905Z
UID:14278-1705177800-1705190340@hotboots.it
SUMMARY:Country Night  con Silvia Staiti  - Brugine Pd
DESCRIPTION:Temporaneamente le attività  alle Ex Base Nato di Bagnoli si spostano qui nella Sala Polivalente di Brugine Pd. Questo Sabato la Maestra e Dj Francesca Penzo ospita la Coreografa Silvia Staiti. \n 
URL:https://hotboots.it/evento/country-week-end-con-pol-ryan-brugine-pd/
LOCATION:Sala Polivalente – Brugine Pd\, Via Palu inferiore 4\, Brugine\, Padova
CATEGORIES:PADOVA,SERATA COUNTRY,STAGE
ATTACH;FMTTYPE=image/jpeg:https://hotboots.it/wp-content/uploads/2023/10/13-gen-fran.jpg
END:VEVENT
BEGIN:VEVENT
DTSTART;TZID=Europe/Rome:20231217T143000
DTEND;TZID=Europe/Rome:20231217T235900
DTSTAMP:20260419T215805
CREATED:20231005T165723Z
LAST-MODIFIED:20231103T174746Z
UID:14275-1702823400-1702857540@hotboots.it
SUMMARY:Country Week end con David Villellas  - Brugine Pd
DESCRIPTION:Temporaneamente le attività  alle Ex Base Nato di Bagnoli si spostano qui nella Sala Polivalente di Brugine Pd. Per un week end la Maestra e Dj Francesca Penzo ospita il fondatore del Catalan Style David Villellas. \n  \n 
URL:https://hotboots.it/evento/country-night-con-pol-ryan-brugine/
LOCATION:Sala Polivalente – Brugine Pd\, Via Palu inferiore 4\, Brugine\, Padova
CATEGORIES:PADOVA,SERATA COUNTRY,STAGE
ATTACH;FMTTYPE=image/jpeg:https://hotboots.it/wp-content/uploads/2023/11/16-17-dic-fran.jpg
END:VEVENT
BEGIN:VEVENT
DTSTART;TZID=Europe/Rome:20231216T183000
DTEND;TZID=Europe/Rome:20231216T235900
DTSTAMP:20260419T215805
CREATED:20231103T174541Z
LAST-MODIFIED:20231103T174541Z
UID:14404-1702751400-1702771140@hotboots.it
SUMMARY:Country Week end con David Villellas  - Brugine Pd
DESCRIPTION:Temporaneamente le attività  alle Ex Base Nato di Bagnoli si spostano qui nella Sala Polivalente di Brugine Pd. Per un week end la Maestra e Dj Francesca Penzo ospita  il fondatore del Catalan Style David Villellas. \n  \n 
URL:https://hotboots.it/evento/country-week-end-con-david-villellas-brugine-pd/
LOCATION:Sala Polivalente – Brugine Pd\, Via Palu inferiore 4\, Brugine\, Padova
CATEGORIES:PADOVA,SERATA COUNTRY,STAGE
ATTACH;FMTTYPE=image/jpeg:https://hotboots.it/wp-content/uploads/2023/11/16-17-dic-fran.jpg
END:VEVENT
BEGIN:VEVENT
DTSTART;TZID=Europe/Rome:20231027T210000
DTEND;TZID=Europe/Rome:20231027T235900
DTSTAMP:20260419T215805
CREATED:20230927T171039Z
LAST-MODIFIED:20230927T171100Z
UID:14179-1698440400-1698451140@hotboots.it
SUMMARY:Serata Country @ La Torre - Cornegliana Pd
DESCRIPTION:Nuova Location per le nostre Country Night da Venerdì 6 ottobre si comincerà a ballare in un nuovo locale il Ristorante Pizzeria La Torre a Cornegliana di Due Carrare Pd. A farvi ballare ci saranno la maestra Sara e il maestro e dj Paolo degli Urban Country.\n\nCosto d’ingresso per chi verrà solo a ballare di € 6\,00.
URL:https://hotboots.it/evento/serata-country-la-torre-cornegliana-pd-4/
LOCATION:Ristorante Pizzeria La Torre – Due Carrare Pd\, Via da Rio\, 55\, Cornegliana\, Padova
CATEGORIES:PADOVA,SERATA COUNTRY
ATTACH;FMTTYPE=image/jpeg:https://hotboots.it/wp-content/uploads/2023/09/06-ott-sara.jpg
END:VEVENT
BEGIN:VEVENT
DTSTART;TZID=Europe/Rome:20231020T210000
DTEND;TZID=Europe/Rome:20231020T235900
DTSTAMP:20260419T215805
CREATED:20230927T170945Z
LAST-MODIFIED:20231017T172401Z
UID:14178-1697835600-1697846340@hotboots.it
SUMMARY:Serata Country @ La Torre - Cornegliana Pd
DESCRIPTION:Nuova Location per le nostre Country Night da Venerdì 6 ottobre si comincerà a ballare in un nuovo locale il Ristorante Pizzeria La Torre a Cornegliana di Due Carrare Pd. A farvi ballare ci saranno la maestra Sara e il maestro e dj Paolo degli Urban Country. Special Guest Johnny Rossato\n\nCosto d’ingresso per chi verrà solo a ballare di € 10\,00.
URL:https://hotboots.it/evento/serata-country-la-torre-cornegliana-pd-3/
LOCATION:Ristorante Pizzeria La Torre – Due Carrare Pd\, Via da Rio\, 55\, Cornegliana\, Padova
CATEGORIES:PADOVA,SERATA COUNTRY
ATTACH;FMTTYPE=image/jpeg:https://hotboots.it/wp-content/uploads/2023/09/20-ott-sara.jpg
END:VEVENT
BEGIN:VEVENT
DTSTART;TZID=Europe/Rome:20231014T150000
DTEND;TZID=Europe/Rome:20231014T210000
DTSTAMP:20260419T215805
CREATED:20181102T184340Z
LAST-MODIFIED:20231005T150401Z
UID:3977-1697295600-1697317200@hotboots.it
SUMMARY:AMERICAN DREAM FIERA PADOVA
DESCRIPTION:Torna la musica Country alla Fiera di Padova  con 2 giorni da vivere e ballare insieme  presso il Padiglione 8  di Tutti in Fiera dedicato all’ America Dream \n  \n  \n 
URL:https://hotboots.it/evento/american-dream-fiera-padova/
LOCATION:Fiera di Padova\, Via Nicolò Tommaseo\, Padova\, Italia
CATEGORIES:PADOVA,SERATA COUNTRY
ATTACH;FMTTYPE=image/jpeg:https://hotboots.it/wp-content/uploads/2018/11/14-ott-urban.jpg
END:VEVENT
BEGIN:VEVENT
DTSTART;TZID=Europe/Rome:20231013T210000
DTEND;TZID=Europe/Rome:20231013T235900
DTSTAMP:20260419T215805
CREATED:20230927T170840Z
LAST-MODIFIED:20230927T171133Z
UID:14177-1697230800-1697241540@hotboots.it
SUMMARY:Serata Country @ La Torre - Cornegliana Pd
DESCRIPTION:Nuova Location per le nostre Country Night da Venerdì 6 ottobre si comincerà a ballare in un nuovo locale il Ristorante Pizzeria La Torre a Cornegliana di Due Carrare Pd. A farvi ballare ci saranno la maestra Sara e il maestro e dj Paolo degli Urban Country.\n\nCosto d’ingresso per chi verrà solo a ballare di € 6\,00.
URL:https://hotboots.it/evento/serata-country-la-torre-cornegliana-pd-2/
LOCATION:Ristorante Pizzeria La Torre – Due Carrare Pd\, Via da Rio\, 55\, Cornegliana\, Padova
CATEGORIES:PADOVA,SERATA COUNTRY
ATTACH;FMTTYPE=image/jpeg:https://hotboots.it/wp-content/uploads/2023/09/06-ott-sara.jpg
END:VEVENT
END:VCALENDAR