BEGIN:VCALENDAR
VERSION:2.0
PRODID:-//HOT BOOTS - ECPv6.15.20//NONSGML v1.0//EN
CALSCALE:GREGORIAN
METHOD:PUBLISH
X-WR-CALNAME:HOT BOOTS
X-ORIGINAL-URL:https://hotboots.it
X-WR-CALDESC:Eventi per HOT BOOTS
REFRESH-INTERVAL;VALUE=DURATION:PT1H
X-Robots-Tag:noindex
X-PUBLISHED-TTL:PT1H
BEGIN:VTIMEZONE
TZID:Europe/Rome
BEGIN:DAYLIGHT
TZOFFSETFROM:+0100
TZOFFSETTO:+0200
TZNAME:CEST
DTSTART:20240331T010000
END:DAYLIGHT
BEGIN:STANDARD
TZOFFSETFROM:+0200
TZOFFSETTO:+0100
TZNAME:CET
DTSTART:20241027T010000
END:STANDARD
BEGIN:DAYLIGHT
TZOFFSETFROM:+0100
TZOFFSETTO:+0200
TZNAME:CEST
DTSTART:20250330T010000
END:DAYLIGHT
BEGIN:STANDARD
TZOFFSETFROM:+0200
TZOFFSETTO:+0100
TZNAME:CET
DTSTART:20251026T010000
END:STANDARD
BEGIN:DAYLIGHT
TZOFFSETFROM:+0100
TZOFFSETTO:+0200
TZNAME:CEST
DTSTART:20260329T010000
END:DAYLIGHT
BEGIN:STANDARD
TZOFFSETFROM:+0200
TZOFFSETTO:+0100
TZNAME:CET
DTSTART:20261025T010000
END:STANDARD
END:VTIMEZONE
BEGIN:VEVENT
DTSTART;TZID=Europe/Rome:20250406T210000
DTEND;TZID=Europe/Rome:20250406T235900
DTSTAMP:20260419T152338
CREATED:20250402T145443Z
LAST-MODIFIED:20250402T145443Z
UID:16521-1743973200-1743983940@hotboots.it
SUMMARY:COUNTRY NIGHT LA FONDERIA -  TORREGLIA Pd
DESCRIPTION:Un nuovissimo appuntamento in una location  da riscoprire parliamo de la Fonderia Torreglia Pd  animazione degli A Star is Born
URL:https://hotboots.it/evento/country-night-la-fonderia-torreglia-pd/
LOCATION:La Fonderia – Torreglia Pd\, Via Vallarega\, 23\, Torreglia\, Padova
CATEGORIES:PADOVA,SERATA COUNTRY
ATTACH;FMTTYPE=image/png:https://hotboots.it/wp-content/uploads/2025/04/06-apr-fra.png
END:VEVENT
END:VCALENDAR