BEGIN:VCALENDAR
VERSION:2.0
PRODID:-//HOT BOOTS - ECPv6.15.20//NONSGML v1.0//EN
CALSCALE:GREGORIAN
METHOD:PUBLISH
X-ORIGINAL-URL:https://hotboots.it
X-WR-CALDESC:Eventi per HOT BOOTS
REFRESH-INTERVAL;VALUE=DURATION:PT1H
X-Robots-Tag:noindex
X-PUBLISHED-TTL:PT1H
BEGIN:VTIMEZONE
TZID:Europe/Rome
BEGIN:DAYLIGHT
TZOFFSETFROM:+0100
TZOFFSETTO:+0200
TZNAME:CEST
DTSTART:20230326T010000
END:DAYLIGHT
BEGIN:STANDARD
TZOFFSETFROM:+0200
TZOFFSETTO:+0100
TZNAME:CET
DTSTART:20231029T010000
END:STANDARD
BEGIN:DAYLIGHT
TZOFFSETFROM:+0100
TZOFFSETTO:+0200
TZNAME:CEST
DTSTART:20240331T010000
END:DAYLIGHT
BEGIN:STANDARD
TZOFFSETFROM:+0200
TZOFFSETTO:+0100
TZNAME:CET
DTSTART:20241027T010000
END:STANDARD
BEGIN:DAYLIGHT
TZOFFSETFROM:+0100
TZOFFSETTO:+0200
TZNAME:CEST
DTSTART:20250330T010000
END:DAYLIGHT
BEGIN:STANDARD
TZOFFSETFROM:+0200
TZOFFSETTO:+0100
TZNAME:CET
DTSTART:20251026T010000
END:STANDARD
END:VTIMEZONE
BEGIN:VEVENT
DTSTART;TZID=Europe/Rome:20241130T200000
DTEND;TZID=Europe/Rome:20241130T235900
DTSTAMP:20260419T201918
CREATED:20241127T180340Z
LAST-MODIFIED:20241127T180340Z
UID:16163-1732996800-1733011140@hotboots.it
SUMMARY:Attività Sportiva Country a Mandria -Padova
DESCRIPTION:Serata Country presso il patronato Della Natività della Beata Vergine Maria (zona Mandria) Padova con Dj Mick e Dj set Urban Country \nCome arrivare: https://maps.app.goo.gl/HvBGwvX4wjcpvC1FA?g_st=aw
URL:https://hotboots.it/evento/attivita-sportiva-country-a-mandria-padova/
LOCATION:patronato Della Natività della Beata Vergine Maria (zona Mandria) Padova\, Via Armistizio 279/281\, Padova
CATEGORIES:PADOVA,SERATA COUNTRY
ATTACH;FMTTYPE=image/jpeg:https://hotboots.it/wp-content/uploads/2018/08/generica-vanna.jpg
END:VEVENT
BEGIN:VEVENT
DTSTART;TZID=Europe/Rome:20241130T210000
DTEND;TZID=Europe/Rome:20241130T235900
DTSTAMP:20260419T201918
CREATED:20241001T211036Z
LAST-MODIFIED:20241126T163244Z
UID:15903-1733000400-1733011140@hotboots.it
SUMMARY:COUNTRY JOLLY BAR - CONSELVE Pd
DESCRIPTION:Serata Country per gli A Star is Born  presso il JOLLY BAR Conselve. In consolle la Maestra e Dj Francesca Penzo
URL:https://hotboots.it/evento/country-jolly-bar-conselve-pd/
LOCATION:JOLLY BAR Conselve Pd\, piazza Cesare Battisti\, Conselve\, Padova
CATEGORIES:PADOVA,SERATA COUNTRY
ATTACH;FMTTYPE=image/jpeg:https://hotboots.it/wp-content/uploads/2024/10/30-nov-francy.jpg
END:VEVENT
END:VCALENDAR