BEGIN:VCALENDAR
VERSION:2.0
PRODID:-//HOT BOOTS - ECPv6.15.20//NONSGML v1.0//EN
CALSCALE:GREGORIAN
METHOD:PUBLISH
X-WR-CALNAME:HOT BOOTS
X-ORIGINAL-URL:https://hotboots.it
X-WR-CALDESC:Eventi per HOT BOOTS
REFRESH-INTERVAL;VALUE=DURATION:PT1H
X-Robots-Tag:noindex
X-PUBLISHED-TTL:PT1H
BEGIN:VTIMEZONE
TZID:Europe/Rome
BEGIN:DAYLIGHT
TZOFFSETFROM:+0100
TZOFFSETTO:+0200
TZNAME:CEST
DTSTART:20230326T010000
END:DAYLIGHT
BEGIN:STANDARD
TZOFFSETFROM:+0200
TZOFFSETTO:+0100
TZNAME:CET
DTSTART:20231029T010000
END:STANDARD
BEGIN:DAYLIGHT
TZOFFSETFROM:+0100
TZOFFSETTO:+0200
TZNAME:CEST
DTSTART:20240331T010000
END:DAYLIGHT
BEGIN:STANDARD
TZOFFSETFROM:+0200
TZOFFSETTO:+0100
TZNAME:CET
DTSTART:20241027T010000
END:STANDARD
BEGIN:DAYLIGHT
TZOFFSETFROM:+0100
TZOFFSETTO:+0200
TZNAME:CEST
DTSTART:20250330T010000
END:DAYLIGHT
BEGIN:STANDARD
TZOFFSETFROM:+0200
TZOFFSETTO:+0100
TZNAME:CET
DTSTART:20251026T010000
END:STANDARD
END:VTIMEZONE
BEGIN:VEVENT
DTSTART;TZID=Europe/Rome:20240921T210000
DTEND;TZID=Europe/Rome:20240921T235900
DTSTAMP:20260420T030903
CREATED:20240912T102317Z
LAST-MODIFIED:20240912T102317Z
UID:15821-1726952400-1726963140@hotboots.it
SUMMARY:GRIGLIE SELVAGGE - CORREZZOLA PD
DESCRIPTION:Si ritorna presso la Corte Benedettina Correzzola per una serata magica in una location fantastica. A dirigere la serata ci sarà la Maestra Daria e Dj Kekko che ad esaudire tutte le vostre richieste
URL:https://hotboots.it/evento/griglie-selvagge-correzzola-pd-2/
LOCATION:Corte Benedettina – Correzzola Pd\, Via Petit Foret\, Correzzola\, Padova
CATEGORIES:PADOVA,SERATA COUNTRY
ATTACH;FMTTYPE=image/png:https://hotboots.it/wp-content/uploads/2024/09/21-sett-fran.png
END:VEVENT
END:VCALENDAR