BEGIN:VCALENDAR
VERSION:2.0
PRODID:-//HOT BOOTS - ECPv6.15.20//NONSGML v1.0//EN
CALSCALE:GREGORIAN
METHOD:PUBLISH
X-WR-CALNAME:HOT BOOTS
X-ORIGINAL-URL:https://hotboots.it
X-WR-CALDESC:Eventi per HOT BOOTS
REFRESH-INTERVAL;VALUE=DURATION:PT1H
X-Robots-Tag:noindex
X-PUBLISHED-TTL:PT1H
BEGIN:VTIMEZONE
TZID:Europe/Rome
BEGIN:DAYLIGHT
TZOFFSETFROM:+0100
TZOFFSETTO:+0200
TZNAME:CEST
DTSTART:20230326T010000
END:DAYLIGHT
BEGIN:STANDARD
TZOFFSETFROM:+0200
TZOFFSETTO:+0100
TZNAME:CET
DTSTART:20231029T010000
END:STANDARD
BEGIN:DAYLIGHT
TZOFFSETFROM:+0100
TZOFFSETTO:+0200
TZNAME:CEST
DTSTART:20240331T010000
END:DAYLIGHT
BEGIN:STANDARD
TZOFFSETFROM:+0200
TZOFFSETTO:+0100
TZNAME:CET
DTSTART:20241027T010000
END:STANDARD
BEGIN:DAYLIGHT
TZOFFSETFROM:+0100
TZOFFSETTO:+0200
TZNAME:CEST
DTSTART:20250330T010000
END:DAYLIGHT
BEGIN:STANDARD
TZOFFSETFROM:+0200
TZOFFSETTO:+0100
TZNAME:CET
DTSTART:20251026T010000
END:STANDARD
END:VTIMEZONE
BEGIN:VEVENT
DTSTART;TZID=Europe/Rome:20240915T150000
DTEND;TZID=Europe/Rome:20240915T203000
DTSTAMP:20260420T032238
CREATED:20240913T131349Z
LAST-MODIFIED:20240913T131349Z
UID:15830-1726412400-1726432200@hotboots.it
SUMMARY:Motor Festival -Conselve (PD)
DESCRIPTION:Pomeriggio country al Motor Festival -Conselve (PD)  (Davanti pasticceria New Style) dalle ore 15\,00 si balla con Dj Maestra Cristina & Emy
URL:https://hotboots.it/evento/motor-festival-conselve-pd/
LOCATION:Pasticceria New Style – Conselve Pd\, Piazza Cesare Battisti n2\, Conselve\, Padova
CATEGORIES:FESTE,PADOVA
ATTACH;FMTTYPE=image/jpeg:https://hotboots.it/wp-content/uploads/2024/09/15-sett-cristina.jpg
END:VEVENT
END:VCALENDAR