BEGIN:VCALENDAR
VERSION:2.0
PRODID:-//HOT BOOTS - ECPv6.15.20//NONSGML v1.0//EN
CALSCALE:GREGORIAN
METHOD:PUBLISH
X-ORIGINAL-URL:https://hotboots.it
X-WR-CALDESC:Eventi per HOT BOOTS
REFRESH-INTERVAL;VALUE=DURATION:PT1H
X-Robots-Tag:noindex
X-PUBLISHED-TTL:PT1H
BEGIN:VTIMEZONE
TZID:Europe/Rome
BEGIN:DAYLIGHT
TZOFFSETFROM:+0100
TZOFFSETTO:+0200
TZNAME:CEST
DTSTART:20230326T010000
END:DAYLIGHT
BEGIN:STANDARD
TZOFFSETFROM:+0200
TZOFFSETTO:+0100
TZNAME:CET
DTSTART:20231029T010000
END:STANDARD
BEGIN:DAYLIGHT
TZOFFSETFROM:+0100
TZOFFSETTO:+0200
TZNAME:CEST
DTSTART:20240331T010000
END:DAYLIGHT
BEGIN:STANDARD
TZOFFSETFROM:+0200
TZOFFSETTO:+0100
TZNAME:CET
DTSTART:20241027T010000
END:STANDARD
BEGIN:DAYLIGHT
TZOFFSETFROM:+0100
TZOFFSETTO:+0200
TZNAME:CEST
DTSTART:20250330T010000
END:DAYLIGHT
BEGIN:STANDARD
TZOFFSETFROM:+0200
TZOFFSETTO:+0100
TZNAME:CET
DTSTART:20251026T010000
END:STANDARD
END:VTIMEZONE
BEGIN:VEVENT
DTSTART;TZID=Europe/Rome:20240802T210000
DTEND;TZID=Europe/Rome:20240802T235900
DTSTAMP:20260420T030904
CREATED:20240430T105927Z
LAST-MODIFIED:20240730T195552Z
UID:15015-1722632400-1722643140@hotboots.it
SUMMARY:Country Night  - Tombolo PD
DESCRIPTION:Serata Country presso il Centro Sportivo di Tombolo con i Dj e Maestri Urban Country
URL:https://hotboots.it/evento/beginer-country-summer-tombolo-pd/
LOCATION:Centro Sportivo  – Tombolo Pd\, via santandrea 6\, Tombolo\, Padova
CATEGORIES:PADOVA,SERATA COUNTRY
ATTACH;FMTTYPE=image/png:https://hotboots.it/wp-content/uploads/2022/05/country-line-dance-generica-1.png
END:VEVENT
BEGIN:VEVENT
DTSTART;TZID=Europe/Rome:20240813T210000
DTEND;TZID=Europe/Rome:20240813T235900
DTSTAMP:20260420T030904
CREATED:20200904T082448Z
LAST-MODIFIED:20240813T143846Z
UID:9180-1723582800-1723593540@hotboots.it
SUMMARY:Country Night al Borgo & Co.- Piazzola S.B. Pd
DESCRIPTION:Serata country  al Borgo & Co si balla con Dj Set Urban Country di fronte ad una delle ville venete più belle\, Villa Contarini
URL:https://hotboots.it/evento/country-night-al-borgo-co-piazzola-s-b-pd-3/
LOCATION:villa contarinni
CATEGORIES:PADOVA,SERATA COUNTRY
ATTACH;FMTTYPE=image/png:https://hotboots.it/wp-content/uploads/2024/01/country-line-dance-generica-1.png
END:VEVENT
BEGIN:VEVENT
DTSTART;TZID=Europe/Rome:20240815T103000
DTEND;TZID=Europe/Rome:20240815T235900
DTSTAMP:20260420T030904
CREATED:20240815T105929Z
LAST-MODIFIED:20240815T105929Z
UID:15641-1723717800-1723766340@hotboots.it
SUMMARY:FERRAGOSTO COUNTRY - Brugine Pd
DESCRIPTION:Un intera giornata dedicata al Country al Tractor Party di Brugine si balla con la musica di Dj Fra e Dj Kekko. in pista la teacher Elena Carniato e tutti voiii!\n\nINGRESSO LIBERO
URL:https://hotboots.it/evento/ferragosto-country-brugine-pd/
LOCATION:Tractor Party Brugine\, Via Leonardo Da Vinci\, Ardoneghe\, Padova
CATEGORIES:FESTE,PADOVA
ATTACH;FMTTYPE=image/jpeg:https://hotboots.it/wp-content/uploads/2024/08/15-ago-francy.jpg
END:VEVENT
BEGIN:VEVENT
DTSTART;TZID=Europe/Rome:20240816T203000
DTEND;TZID=Europe/Rome:20240816T235900
DTSTAMP:20260420T030904
CREATED:20240416T213345Z
LAST-MODIFIED:20240816T124207Z
UID:14954-1723840200-1723852740@hotboots.it
SUMMARY:Country Parco Bapi -Mestrino Pd
DESCRIPTION:Serata  Country immersi nel verde del Parco Bapi a Mestrino Pd con la Maestra e Dj Francesca Penzo degli A Star is Born
URL:https://hotboots.it/evento/country-parco-bapi-mestrino-pd/
LOCATION:Parco Bapi\, Via Calatafimi\, Mestrino\, Padova
CATEGORIES:PADOVA,Pomeriggio Country,SERATA COUNTRY
ATTACH;FMTTYPE=image/png:https://hotboots.it/wp-content/uploads/2024/04/16-ago-fran.png
END:VEVENT
BEGIN:VEVENT
DTSTART;TZID=Europe/Rome:20240824T160000
DTEND;TZID=Europe/Rome:20240824T235900
DTSTAMP:20260420T030904
CREATED:20240816T131521Z
LAST-MODIFIED:20240816T131521Z
UID:15660-1724515200-1724543940@hotboots.it
SUMMARY:COUNTRY TOGETHER - CAMPAGNOLA DI BRUGINE PD
DESCRIPTION:Serata Country alla U.S.A Reunion Vehicle presso gli impianti sportivi  di Campagnola di Brugine Pd. Si balla su Pista in Legno insieme allo \nStaff A Star Is Born e una Special Guest di tutta eccellenza Jgor Pasin \nINGRESSO LIBERO! \n  \n 
URL:https://hotboots.it/evento/country-together-campagnola-di-brugine-pd/
LOCATION:Impianti Sportivi – Campagnola di Brugine\, Via A. Moro 33\, Campagnola di Brugine\, Padova
CATEGORIES:FESTE,PADOVA
ATTACH;FMTTYPE=image/png:https://hotboots.it/wp-content/uploads/2024/08/24-ago-fran.png
END:VEVENT
BEGIN:VEVENT
DTSTART;TZID=Europe/Rome:20240824T210000
DTEND;TZID=Europe/Rome:20240824T235900
DTSTAMP:20260420T030904
CREATED:20180811T155423Z
LAST-MODIFIED:20240813T164940Z
UID:2610-1724533200-1724543940@hotboots.it
SUMMARY:COUNTRY TOUR 2024 - POZZETTO DI CITTADELLA (PD)
DESCRIPTION:Il  Country Tour torna nella bellissima Pozzetto di Cittadella (Pd)! \nMirabolante sagra piena di attrazioni ed avremo tutta per noi la pista in acciaio al coperto strappata faticosamente al liscio. In consolle Alex Eros Luka & Nike DJs con la loro autentica Country Music! Non prendete impegni!
URL:https://hotboots.it/evento/17-country-tour-2018-pozzetto-di-cittadella-pd/
LOCATION:Pozzetto di Cittadella\, Via Pozzetto\, Cittadella\, Padova\, Italia
CATEGORIES:PADOVA,SAGRA
ATTACH;FMTTYPE=image/jpeg:https://hotboots.it/wp-content/uploads/2018/08/24-ago-nike.jpg
END:VEVENT
BEGIN:VEVENT
DTSTART;TZID=Europe/Rome:20240830T210000
DTEND;TZID=Europe/Rome:20240830T233000
DTSTAMP:20260420T030904
CREATED:20211019T205851Z
LAST-MODIFIED:20240828T144037Z
UID:9922-1725051600-1725060600@hotboots.it
SUMMARY:Country Night - Rosara Pd
DESCRIPTION:Attività country dance presso la tensostruttura di Rosara di Codevigo Pd con la Maestra Francesca Penzo A star is Born \n  \nAmpio spazio! Siamo vicino alla Chiesa di Rosara.
URL:https://hotboots.it/evento/pomeriggio-country-rosara-pd/
LOCATION:parrocchia di Rosara\, Rosara\, Padova
CATEGORIES:PADOVA,SERATA COUNTRY
ATTACH;FMTTYPE=image/png:https://hotboots.it/wp-content/uploads/2021/10/30-ago-fra.png
END:VEVENT
END:VCALENDAR